BEGIN:VCALENDAR
VERSION:2.0
PRODID:-//Martinsville Tourism - ECPv6.15.18//NONSGML v1.0//EN
CALSCALE:GREGORIAN
METHOD:PUBLISH
X-ORIGINAL-URL:https://www.visitmartinsville.com
X-WR-CALDESC:Events for Martinsville Tourism
REFRESH-INTERVAL;VALUE=DURATION:PT1H
X-Robots-Tag:noindex
X-PUBLISHED-TTL:PT1H
BEGIN:VTIMEZONE
TZID:America/New_York
BEGIN:DAYLIGHT
TZOFFSETFROM:-0500
TZOFFSETTO:-0400
TZNAME:EDT
DTSTART:20250309T070000
END:DAYLIGHT
BEGIN:STANDARD
TZOFFSETFROM:-0400
TZOFFSETTO:-0500
TZNAME:EST
DTSTART:20251102T060000
END:STANDARD
BEGIN:DAYLIGHT
TZOFFSETFROM:-0500
TZOFFSETTO:-0400
TZNAME:EDT
DTSTART:20260308T070000
END:DAYLIGHT
BEGIN:STANDARD
TZOFFSETFROM:-0400
TZOFFSETTO:-0500
TZNAME:EST
DTSTART:20261101T060000
END:STANDARD
BEGIN:DAYLIGHT
TZOFFSETFROM:-0500
TZOFFSETTO:-0400
TZNAME:EDT
DTSTART:20270314T070000
END:DAYLIGHT
BEGIN:STANDARD
TZOFFSETFROM:-0400
TZOFFSETTO:-0500
TZNAME:EST
DTSTART:20271107T060000
END:STANDARD
END:VTIMEZONE
BEGIN:VEVENT
DTSTART;TZID=America/New_York:20260326T183000
DTEND;TZID=America/New_York:20260326T210000
DTSTAMP:20260425T064158
CREATED:20250716T154358Z
LAST-MODIFIED:20250716T154358Z
UID:10002807-1774549800-1774558800@www.visitmartinsville.com
SUMMARY:Mike Wiley: A Game Apart
DESCRIPTION:Mike Wiley will perform his one-person play “A Game Apart\,” Thursday\, March 26 at Piedmont Arts. A reception will be held at 6:30 p.m. The performance will begin at 7 p.m. in the galleries. \n“A Game Apart” provides a glimpse of Jackie Robinson’s life during a bygone era of separate and unequal locker rooms\, of whites-only hotels\, and of restaurants with only a back door for colored athletes to enter. Witness the hopeless humiliation of a star player who was showered with adulation on the field and became a second-hand citizen when he walked off the diamond. Meet Jackie’s compatriots fighting the same battles between the end zones\, inside the ring and around the track. A Game Apart is a powerful lesson of courage through dedication\, perseverance and leadership. \nTickets are $20 for general admission and $10 for students in grades K-12.
URL:https://www.visitmartinsville.com/event/mike-wiley-a-game-apart/
LOCATION:Piedmont Arts\, 215 Starling Avenue\, Martinsville\, VA\, 24112\, United States
CATEGORIES:Performing Arts,Arts & Cultural,Baseball,Theatre
ATTACH;FMTTYPE=image/jpeg:https://www.visitmartinsville.com/wp-content/uploads/2025/07/a-game-apart.jpg
END:VEVENT
END:VCALENDAR