BEGIN:VCALENDAR
VERSION:2.0
PRODID:-//Martinsville Tourism - ECPv6.15.18//NONSGML v1.0//EN
CALSCALE:GREGORIAN
METHOD:PUBLISH
X-WR-CALNAME:Martinsville Tourism
X-ORIGINAL-URL:https://www.visitmartinsville.com
X-WR-CALDESC:Events for Martinsville Tourism
REFRESH-INTERVAL;VALUE=DURATION:PT1H
X-Robots-Tag:noindex
X-PUBLISHED-TTL:PT1H
BEGIN:VTIMEZONE
TZID:America/New_York
BEGIN:DAYLIGHT
TZOFFSETFROM:-0500
TZOFFSETTO:-0400
TZNAME:EDT
DTSTART:20250309T070000
END:DAYLIGHT
BEGIN:STANDARD
TZOFFSETFROM:-0400
TZOFFSETTO:-0500
TZNAME:EST
DTSTART:20251102T060000
END:STANDARD
BEGIN:DAYLIGHT
TZOFFSETFROM:-0500
TZOFFSETTO:-0400
TZNAME:EDT
DTSTART:20260308T070000
END:DAYLIGHT
BEGIN:STANDARD
TZOFFSETFROM:-0400
TZOFFSETTO:-0500
TZNAME:EST
DTSTART:20261101T060000
END:STANDARD
BEGIN:DAYLIGHT
TZOFFSETFROM:-0500
TZOFFSETTO:-0400
TZNAME:EDT
DTSTART:20270314T070000
END:DAYLIGHT
BEGIN:STANDARD
TZOFFSETFROM:-0400
TZOFFSETTO:-0500
TZNAME:EST
DTSTART:20271107T060000
END:STANDARD
END:VTIMEZONE
BEGIN:VEVENT
DTSTART;TZID=America/New_York:20260411T090000
DTEND;TZID=America/New_York:20260411T100000
DTSTAMP:20260419T094401
CREATED:20250121T170938Z
LAST-MODIFIED:20250121T170938Z
UID:10001291-1775898000-1775901600@www.visitmartinsville.com
SUMMARY:A Walk in the Park\, Hosted by All Vets
DESCRIPTION:All Vets have a mission to Honor the Fallen and Strengthen the Living. Mark your calendars for a Walk in the Park on the second Saturday of every month at 9 AM. This is not just a one-time event but a recurring monthly community get-together where we inspire each other to walk and get active at our own pace!\n \nTo sweeten the deal\, we encourage everyone to see an All Vets rep at their first walk and grab a “Frequent Walker Card!” Every third walk you attend\, you will receive a gift. Each month you attend\, remember to have your card punched so that you can get your gift every third month.\n \nWhether you walk a little or a lot\, fast or slow\, we hope you will join us for A Walk in the Park. It’s free to attend\, and please share with your community!
URL:https://www.visitmartinsville.com/event/a-walk-in-the-park-hosted-by-all-vets/2026-04-11/
LOCATION:Jack Dalton Park\, 130 Jack Dalton Road\, Collinsville\, VA\, 24078\, United States
CATEGORIES:Free Event,Walks/Runs,Health & Wellness
ATTACH;FMTTYPE=image/jpeg:https://www.visitmartinsville.com/wp-content/uploads/2025/01/A-Walk-in-the-Park.jpg
ORGANIZER;CN="All Vets":MAILTO:allvets.va@gmail.com
END:VEVENT
BEGIN:VEVENT
DTSTART;TZID=America/New_York:20260410T173000
DTEND;TZID=America/New_York:20260410T193000
DTSTAMP:20260419T094401
CREATED:20250716T161310Z
LAST-MODIFIED:20250716T161310Z
UID:10002808-1775842200-1775849400@www.visitmartinsville.com
SUMMARY:Exhibit Opening Reception
DESCRIPTION:Join Piedmont Arts for an opening reception in honor of its new exhibits from 5:30-7:30 p.m.\, Friday\, April 10 at Piedmont Arts. A gallery talk will be held at 6:15 p.m. Complimentary refreshments will be served. \nExhibits on view: \n– Paintings: Betsy Hale Bannan\n– Accelerations: Lisa Beth Robinson\n– Hot\, Fresh Brioche…Knitting: Lauren Thornhill\n– Reynolds Homestead Weavers’ Exchange \nThis event is free and open to the public. Please RSVP with the number and names of the attendees in your party by Wednesday\, April 8. \nSponsored by Helen S. and Charles G. Patterson Jr. Charitable Foundation Trust\, Sovah Health and What’s Your Sign.
URL:https://www.visitmartinsville.com/event/exhibit-opening-reception-5/
LOCATION:Piedmont Arts\, 215 Starling Avenue\, Martinsville\, VA\, 24112\, United States
CATEGORIES:Arts & Cultural,Free Event,Lecture
ATTACH;FMTTYPE=image/jpeg:https://www.visitmartinsville.com/wp-content/uploads/2025/07/BetsyBannan-SomeSemblanceofOrder.jpg
END:VEVENT
BEGIN:VEVENT
DTSTART;TZID=America/New_York:20260404T100000
DTEND;TZID=America/New_York:20260404T120000
DTSTAMP:20260419T094401
CREATED:20260317T152128Z
LAST-MODIFIED:20260317T152128Z
UID:10005589-1775296800-1775304000@www.visitmartinsville.com
SUMMARY:Hike the Dick & Willie Trail and Paw Path - April DRBA FSO
DESCRIPTION: \nJoin the Dan River Basin Association for an approximately 3.5 mile hike on the Paw Path and the Dick & Willie Passage Trail (D&W) starting from the river access at the Smith River Sports Complex in Axton\, VA (Henry County) for DRBA’s First Saturday Outing (FSO) on April 4\, 2026 at 10:00 am. This hike is a moderate out and back\, first on the natural surface Paw Path from the river access to the paved D&W along the Smith River and Mulberry Creek. Outings and meetings of the Dan River Basin Association are open to the public without charge.\n \nThe Smith River Sports Complex (SRSC) is a 90-acre multi-use facility developed by the Southern Virginia Recreation Facilities Authority to serve the community and also boost local tourism and the economy with diverse sports. As well as sports fields\, it offers a golfing range\, a river access\, fishing decks\, picnic tables\, a festival field with a stage\, natural surface trails and a connection to the Dick and Willie Passage Trail (D&W). The SRSC officially merged with Henry County Parks and Recreation in 2023.\n \nWe will park in the river access area then start our walk on the Paw Path\, a natural surface trail that was designed with dogs in mind. It is mostly flat\, 0.5 miles long and runs alongside the Smith River. It features many engaging canine activities such as a fire hydrant and a balance beam. Along this path we will pass the Paw Park\, a members only\, fenced\, off-leash dog park offering a natural wooded trail for dogs to explore. Also along the Paw Path we will see a collaborative conservation project by the Martinsville & Garden Study Clubs featuring the trail lined with native plants (over 300 plants from 50 species) to support pollinators\, with educational signage\, insect hotels\, and birdhouses built by students. At the end of the Paw Path we will access the D&W.\n \nThe D&W is a paved trail winding through the City of Martinsville and Henry County. The original 4.5 mile portion from Virginia Avenue to Mulberry Creek Overlook opened in 2010. Since then 2 additional phases have been added to take the trail from Mulberry Creek Overlook to Spruce Street and from there to the SRSC to make it a total of 10.7 miles long. The portion we will walk will start from the end of the Paw Path\, follow the Smith River and Mulberry Creek to the Country Club Drive Trailhead and back. It is mostly flat along the Smith River\, then a few short hills as it turns to follow Mulberry Creek. On the D&W you will see a mix of natural beauty – the beautiful Smith River\, lush forest scenery\, wildlife such as deer\, birds\, and turtles\, wildflowers\, benches\, and a generally peaceful\, paved path perfect for walking\, biking\, and enjoying the outdoors.\n \n“Since I don’t own a dog\, I walk the Paw Path to enjoy the native plants. I also walk this section of the D&W regularly and never tire of the beauty. In most places it is lined with trees making it a perfect temperature for walking\, shady in the summertime but sunny in the winter when the leaves are off the trees\,” says FSO coordinator\, Ellen Jessee.\nParticipants should dress in layers\, wear hiking shoes or boots\, and bring hiking stick(s)\, lunch\, and water. All participants will be required to sign a wavier.\nFor more information\, contact the outings coordinator Ellen Jessee\, 276-734-1317\, ejessee105@gmail.com\nNOTE: If for any reason the event needs to be canceled\, visit www.danriver.org by Friday\, the day before the outing to determine whether the outing will be held.\nDRBA is on MEETUP! Sign up and never miss a DRBA event!\nDIRECTIONS:\nSmith River Sports Complex\n1000 Irisburg Road\nAxton\, VA 24054\nGPS: 36.633872\, -79.824943\nFrom the east traveling on Rt 58 take the Rt 58/220 Bypass west. From the north\, south or west traveling on Rt 220 take the Rt 58/220 Bypass east. From the Bypass take Rt 650 Exit then turn onto Irisburg Road (left turn if coming from east\, otherwise right turn).. Go quarter mile to the entrance of the Sports Complex and turn right onto Sportsplex Way. Turn left at the maintenance building and go downhill to park at the river access area. For those who prefer to stay on paved surfaces or have accessibility issues\, you may continue straight and park in the paved parking lot near the sports fields and walk on the concrete walks through the complex to join the rest of the group at the D&W where the Paw Path joins the D&W next to the retention pond at the rear of the complex. Note: It will be downhill from the paved parking area to the D&W. There are restrooms in both the river access area and the sports fields area.
URL:https://www.visitmartinsville.com/event/hike-the-dick-willie-trail-and-paw-path-april-drba-fso/
LOCATION:Monogram Foods Smith River Sports Complex\, 1000 Irisburg Road\, Axton\, VA\, 24054\, United States
CATEGORIES:Free Event,Walks/Runs,Outdoors
ATTACH;FMTTYPE=image/jpeg:https://www.visitmartinsville.com/wp-content/uploads/2026/03/IMG_2407.jpg
ORGANIZER;CN="Dan River Basin Association":MAILTO:drba.nc@danriver.org
END:VEVENT
BEGIN:VEVENT
DTSTART;TZID=America/New_York:20260404T100000
DTEND;TZID=America/New_York:20260404T113000
DTSTAMP:20260419T094401
CREATED:20240712T202025Z
LAST-MODIFIED:20240913T185310Z
UID:10000482-1775296800-1775302200@www.visitmartinsville.com
SUMMARY:Storytime at Spencer-Penn Centre
DESCRIPTION:This monthly program will include special readers\, crafts\, and other fun activities. Come out and join us for this free program\, fit for all ages! No registration needed. January – Let’s Build It February – I Love My Smile March – 1 Fish\, 2 Fish\, Red Fish\, Blue Fish April – Spring is Calling May – Watch Me Bloom June – Following Footsteps July – You\, Me\, and My Teddy Make Three August – Under the Apple Tree September – Down on the Farm October – Pumpkin Faces November – Thanks for Thanksgiving December – Sugar Plum Wishes & Candy Cane Kissses
URL:https://www.visitmartinsville.com/event/storytime-at-spencer-penn-centre/2026-04-04/
LOCATION:Spencer-Penn Centre\, 475 Spencer-Penn Road\, P.O. Box 506\, Spencer\, VA\, 24165\, United States
CATEGORIES:Arts & Cultural,Free Event,Children's Events
ATTACH;FMTTYPE=image/jpeg:https://www.visitmartinsville.com/wp-content/uploads/2024/07/Exterior_2.jpg
ORGANIZER;CN="Spencer-Penn Centre":MAILTO:spencerpenn04@gmail.com
END:VEVENT
BEGIN:VEVENT
DTSTART;TZID=America/New_York:20260314T110000
DTEND;TZID=America/New_York:20260314T130000
DTSTAMP:20260419T094401
CREATED:20260226T142624Z
LAST-MODIFIED:20260226T142624Z
UID:10005249-1773486000-1773493200@www.visitmartinsville.com
SUMMARY:Books and Bunnies 2026
DESCRIPTION:The Harvest Youth Board will host the 5th Annual Books & Bunnies event! There will be an egg hunt\, crafts\, fun activities\, and FREE books for children ages 0-12 years old!
URL:https://www.visitmartinsville.com/event/books-and-bunnies-2026/
LOCATION:Monogram Foods Smith River Sports Complex\, 1000 Irisburg Road\, Axton\, VA\, 24054\, United States
CATEGORIES:Free Event,Children's Events,Outdoors
ATTACH;FMTTYPE=image/jpeg:https://www.visitmartinsville.com/wp-content/uploads/2026/02/Books-and-Bunnies-2026_English.jpg
ORGANIZER;CN="Harvest Youth Board":MAILTO:youthboard@theharvestfoundation.org
END:VEVENT
BEGIN:VEVENT
DTSTART;TZID=America/New_York:20260314T090000
DTEND;TZID=America/New_York:20260314T100000
DTSTAMP:20260419T094401
CREATED:20250121T170938Z
LAST-MODIFIED:20250121T170938Z
UID:10001290-1773478800-1773482400@www.visitmartinsville.com
SUMMARY:A Walk in the Park\, Hosted by All Vets
DESCRIPTION:All Vets have a mission to Honor the Fallen and Strengthen the Living. Mark your calendars for a Walk in the Park on the second Saturday of every month at 9 AM. This is not just a one-time event but a recurring monthly community get-together where we inspire each other to walk and get active at our own pace!\n \nTo sweeten the deal\, we encourage everyone to see an All Vets rep at their first walk and grab a “Frequent Walker Card!” Every third walk you attend\, you will receive a gift. Each month you attend\, remember to have your card punched so that you can get your gift every third month.\n \nWhether you walk a little or a lot\, fast or slow\, we hope you will join us for A Walk in the Park. It’s free to attend\, and please share with your community!
URL:https://www.visitmartinsville.com/event/a-walk-in-the-park-hosted-by-all-vets/2026-03-14/
LOCATION:Jack Dalton Park\, 130 Jack Dalton Road\, Collinsville\, VA\, 24078\, United States
CATEGORIES:Free Event,Walks/Runs,Health & Wellness
ATTACH;FMTTYPE=image/jpeg:https://www.visitmartinsville.com/wp-content/uploads/2025/01/A-Walk-in-the-Park.jpg
ORGANIZER;CN="All Vets":MAILTO:allvets.va@gmail.com
END:VEVENT
BEGIN:VEVENT
DTSTART;TZID=America/New_York:20260307T100000
DTEND;TZID=America/New_York:20260307T113000
DTSTAMP:20260419T094401
CREATED:20240712T202025Z
LAST-MODIFIED:20240913T185310Z
UID:10000481-1772877600-1772883000@www.visitmartinsville.com
SUMMARY:Storytime at Spencer-Penn Centre
DESCRIPTION:This monthly program will include special readers\, crafts\, and other fun activities. Come out and join us for this free program\, fit for all ages! No registration needed. January – Let’s Build It February – I Love My Smile March – 1 Fish\, 2 Fish\, Red Fish\, Blue Fish April – Spring is Calling May – Watch Me Bloom June – Following Footsteps July – You\, Me\, and My Teddy Make Three August – Under the Apple Tree September – Down on the Farm October – Pumpkin Faces November – Thanks for Thanksgiving December – Sugar Plum Wishes & Candy Cane Kissses
URL:https://www.visitmartinsville.com/event/storytime-at-spencer-penn-centre/2026-03-07/
LOCATION:Spencer-Penn Centre\, 475 Spencer-Penn Road\, P.O. Box 506\, Spencer\, VA\, 24165\, United States
CATEGORIES:Arts & Cultural,Free Event,Children's Events
ATTACH;FMTTYPE=image/jpeg:https://www.visitmartinsville.com/wp-content/uploads/2024/07/Exterior_2.jpg
ORGANIZER;CN="Spencer-Penn Centre":MAILTO:spencerpenn04@gmail.com
END:VEVENT
BEGIN:VEVENT
DTSTART;TZID=America/New_York:20260224T100000
DTEND;TZID=America/New_York:20260224T120000
DTSTAMP:20260419T094401
CREATED:20251202T161115Z
LAST-MODIFIED:20251202T161115Z
UID:10003141-1771927200-1771934400@www.visitmartinsville.com
SUMMARY:Free Genealogy Classes
DESCRIPTION:A series of four classes on genealogical research will be held from 10:00 am to 12:00 pm at the Bassett Historical Center on the first four Tuesdays in February 2026\n(3rd\, 10th\, 17th\, 24th). There is absolutely no charge for these classes. When you sign up for the first class\, you will automatically be signed up for the other three classes. The classes are limited to 12 people\, and the class has already begun to fill up\, so please call the Bassett Historical Center at 276-629-9191 to reserve your spot! \nIf you are enrolled in these classes\, please call the Center if there is inclement weather\, as the class for that day may need to be rescheduled.
URL:https://www.visitmartinsville.com/event/free-genealogy-classes/2026-02-24/
LOCATION:Bassett Historical Center\, 3964 Fairystone Park Hwy\, Bassett\, VA\, 24055\, United States
CATEGORIES:Free Event
ATTACH;FMTTYPE=image/jpeg:https://www.visitmartinsville.com/wp-content/uploads/2025/12/MG_9023.jpg
ORGANIZER;CN="Bassett Historical Center":MAILTO:bhcenter3964@gmail.com
END:VEVENT
BEGIN:VEVENT
DTSTART;TZID=America/New_York:20260217T100000
DTEND;TZID=America/New_York:20260217T120000
DTSTAMP:20260419T094401
CREATED:20251202T161115Z
LAST-MODIFIED:20251202T161115Z
UID:10003140-1771322400-1771329600@www.visitmartinsville.com
SUMMARY:Free Genealogy Classes
DESCRIPTION:A series of four classes on genealogical research will be held from 10:00 am to 12:00 pm at the Bassett Historical Center on the first four Tuesdays in February 2026\n(3rd\, 10th\, 17th\, 24th). There is absolutely no charge for these classes. When you sign up for the first class\, you will automatically be signed up for the other three classes. The classes are limited to 12 people\, and the class has already begun to fill up\, so please call the Bassett Historical Center at 276-629-9191 to reserve your spot! \nIf you are enrolled in these classes\, please call the Center if there is inclement weather\, as the class for that day may need to be rescheduled.
URL:https://www.visitmartinsville.com/event/free-genealogy-classes/2026-02-17/
LOCATION:Bassett Historical Center\, 3964 Fairystone Park Hwy\, Bassett\, VA\, 24055\, United States
CATEGORIES:Free Event
ATTACH;FMTTYPE=image/jpeg:https://www.visitmartinsville.com/wp-content/uploads/2025/12/MG_9023.jpg
ORGANIZER;CN="Bassett Historical Center":MAILTO:bhcenter3964@gmail.com
END:VEVENT
BEGIN:VEVENT
DTSTART;TZID=America/New_York:20260214T090000
DTEND;TZID=America/New_York:20260214T100000
DTSTAMP:20260419T094401
CREATED:20250121T170938Z
LAST-MODIFIED:20250121T170938Z
UID:10001289-1771059600-1771063200@www.visitmartinsville.com
SUMMARY:A Walk in the Park\, Hosted by All Vets
DESCRIPTION:All Vets have a mission to Honor the Fallen and Strengthen the Living. Mark your calendars for a Walk in the Park on the second Saturday of every month at 9 AM. This is not just a one-time event but a recurring monthly community get-together where we inspire each other to walk and get active at our own pace!\n \nTo sweeten the deal\, we encourage everyone to see an All Vets rep at their first walk and grab a “Frequent Walker Card!” Every third walk you attend\, you will receive a gift. Each month you attend\, remember to have your card punched so that you can get your gift every third month.\n \nWhether you walk a little or a lot\, fast or slow\, we hope you will join us for A Walk in the Park. It’s free to attend\, and please share with your community!
URL:https://www.visitmartinsville.com/event/a-walk-in-the-park-hosted-by-all-vets/2026-02-14/
LOCATION:Jack Dalton Park\, 130 Jack Dalton Road\, Collinsville\, VA\, 24078\, United States
CATEGORIES:Free Event,Walks/Runs,Health & Wellness
ATTACH;FMTTYPE=image/jpeg:https://www.visitmartinsville.com/wp-content/uploads/2025/01/A-Walk-in-the-Park.jpg
ORGANIZER;CN="All Vets":MAILTO:allvets.va@gmail.com
END:VEVENT
BEGIN:VEVENT
DTSTART;TZID=America/New_York:20260210T100000
DTEND;TZID=America/New_York:20260210T120000
DTSTAMP:20260419T094402
CREATED:20251202T161115Z
LAST-MODIFIED:20251202T161115Z
UID:10003139-1770717600-1770724800@www.visitmartinsville.com
SUMMARY:Free Genealogy Classes
DESCRIPTION:A series of four classes on genealogical research will be held from 10:00 am to 12:00 pm at the Bassett Historical Center on the first four Tuesdays in February 2026\n(3rd\, 10th\, 17th\, 24th). There is absolutely no charge for these classes. When you sign up for the first class\, you will automatically be signed up for the other three classes. The classes are limited to 12 people\, and the class has already begun to fill up\, so please call the Bassett Historical Center at 276-629-9191 to reserve your spot! \nIf you are enrolled in these classes\, please call the Center if there is inclement weather\, as the class for that day may need to be rescheduled.
URL:https://www.visitmartinsville.com/event/free-genealogy-classes/2026-02-10/
LOCATION:Bassett Historical Center\, 3964 Fairystone Park Hwy\, Bassett\, VA\, 24055\, United States
CATEGORIES:Free Event
ATTACH;FMTTYPE=image/jpeg:https://www.visitmartinsville.com/wp-content/uploads/2025/12/MG_9023.jpg
ORGANIZER;CN="Bassett Historical Center":MAILTO:bhcenter3964@gmail.com
END:VEVENT
BEGIN:VEVENT
DTSTART;TZID=America/New_York:20260207T100000
DTEND;TZID=America/New_York:20260207T130000
DTSTAMP:20260419T094402
CREATED:20250716T141531Z
LAST-MODIFIED:20250716T141531Z
UID:10002805-1770458400-1770469200@www.visitmartinsville.com
SUMMARY:African American Read-in + Family Day
DESCRIPTION:The annual African American Read-in + Family Day will take place from 10 a.m.-1 p.m.\, Saturday\, Feb. 7 at Piedmont Arts. \nVisitors can view books on loan from the collection of Joyce and Kenneth Staples. A craft for kids and snacks will be available. This event is admission free. All ages are welcome. \nThis event is held in conjunction with the National African American Read-in\, a groundbreaking effort to encourage communities to read together\, centering on African American books and authors. The initiative was established in 1990 by the Black Caucus of the National Council of Teachers of English to make literacy a significant part of Black History Month. It has reached more than six million participants around the world. \nSponsored by Brightspeed and Carter Bank.
URL:https://www.visitmartinsville.com/event/african-american-read-in-family-day/
LOCATION:Piedmont Arts\, 215 Starling Avenue\, Martinsville\, VA\, 24112\, United States
CATEGORIES:Performing Arts,Arts & Cultural,Free Event,History,Children's Events,Crafts,Multicultural
ATTACH;FMTTYPE=image/jpeg:https://www.visitmartinsville.com/wp-content/uploads/2025/07/AA-Read-In-Family-Day.jpg
END:VEVENT
BEGIN:VEVENT
DTSTART;TZID=America/New_York:20260207T100000
DTEND;TZID=America/New_York:20260207T113000
DTSTAMP:20260419T094402
CREATED:20240712T202025Z
LAST-MODIFIED:20240913T185310Z
UID:10000480-1770458400-1770463800@www.visitmartinsville.com
SUMMARY:Storytime at Spencer-Penn Centre
DESCRIPTION:This monthly program will include special readers\, crafts\, and other fun activities. Come out and join us for this free program\, fit for all ages! No registration needed. January – Let’s Build It February – I Love My Smile March – 1 Fish\, 2 Fish\, Red Fish\, Blue Fish April – Spring is Calling May – Watch Me Bloom June – Following Footsteps July – You\, Me\, and My Teddy Make Three August – Under the Apple Tree September – Down on the Farm October – Pumpkin Faces November – Thanks for Thanksgiving December – Sugar Plum Wishes & Candy Cane Kissses
URL:https://www.visitmartinsville.com/event/storytime-at-spencer-penn-centre/2026-02-07/
LOCATION:Spencer-Penn Centre\, 475 Spencer-Penn Road\, P.O. Box 506\, Spencer\, VA\, 24165\, United States
CATEGORIES:Arts & Cultural,Free Event,Children's Events
ATTACH;FMTTYPE=image/jpeg:https://www.visitmartinsville.com/wp-content/uploads/2024/07/Exterior_2.jpg
ORGANIZER;CN="Spencer-Penn Centre":MAILTO:spencerpenn04@gmail.com
END:VEVENT
BEGIN:VEVENT
DTSTART;TZID=America/New_York:20260203T100000
DTEND;TZID=America/New_York:20260203T120000
DTSTAMP:20260419T094402
CREATED:20251202T161115Z
LAST-MODIFIED:20251202T161115Z
UID:10003135-1770112800-1770120000@www.visitmartinsville.com
SUMMARY:Free Genealogy Classes
DESCRIPTION:A series of four classes on genealogical research will be held from 10:00 am to 12:00 pm at the Bassett Historical Center on the first four Tuesdays in February 2026\n(3rd\, 10th\, 17th\, 24th). There is absolutely no charge for these classes. When you sign up for the first class\, you will automatically be signed up for the other three classes. The classes are limited to 12 people\, and the class has already begun to fill up\, so please call the Bassett Historical Center at 276-629-9191 to reserve your spot! \nIf you are enrolled in these classes\, please call the Center if there is inclement weather\, as the class for that day may need to be rescheduled.
URL:https://www.visitmartinsville.com/event/free-genealogy-classes/2026-02-03/
LOCATION:Bassett Historical Center\, 3964 Fairystone Park Hwy\, Bassett\, VA\, 24055\, United States
CATEGORIES:Free Event
ATTACH;FMTTYPE=image/jpeg:https://www.visitmartinsville.com/wp-content/uploads/2025/12/MG_9023.jpg
ORGANIZER;CN="Bassett Historical Center":MAILTO:bhcenter3964@gmail.com
END:VEVENT
BEGIN:VEVENT
DTSTART;TZID=America/New_York:20260124T090000
DTEND;TZID=America/New_York:20260124T150000
DTSTAMP:20260419T094402
CREATED:20260107T185716Z
LAST-MODIFIED:20260107T185800Z
UID:10003179-1769245200-1769266800@www.visitmartinsville.com
SUMMARY:Angler's Choice Annual Open House
DESCRIPTION:Angler’s Choice is back with its annual Open House in Martinsville\, VA. This will be a two-day event\, 12 pm to 5 pm Friday and 9 am to 3 pm Saturday! This is an indoor event with vendors\, seminars\, and free refreshments. Pets on leash are welcome. For more information\, call 336-619-4235. Angler’s Choice proudly offers Ranger\, Triton\, Nitro\, and Tracker boats.
URL:https://www.visitmartinsville.com/event/anglers-choice-open-house/2026-01-24/
LOCATION:Angler’s Choice\, 6611 A L Philpott Hwy\, Martinsville\, VA\, 24112\, United States
CATEGORIES:Free Event,Fishing
ATTACH;FMTTYPE=image/jpeg:https://www.visitmartinsville.com/wp-content/uploads/2026/01/Anglers-Choice-Open-House.jpg
END:VEVENT
BEGIN:VEVENT
DTSTART;TZID=America/New_York:20260123T173000
DTEND;TZID=America/New_York:20260123T193000
DTSTAMP:20260419T094402
CREATED:20250716T135134Z
LAST-MODIFIED:20250716T135134Z
UID:10002804-1769189400-1769196600@www.visitmartinsville.com
SUMMARY:Exhibit Opening Reception
DESCRIPTION:Join Piedmont Arts for an opening reception in honor of its new exhibits from 5:30-7:30 p.m.\, Friday\, Jan. 23 at the museum. A gallery talk will be held at 6:15 p.m. Complimentary refreshments will be served. \nExhibits on view: \n– American Watercolor Society 158th Annual International Exhibition\n– Act II: Paintings by Gail Doyle Smith\n– Paintings by Kelly Gravely Mattox \nThis event is free and open to the public. Please RSVP with the number and names of the attendees in your party by Wednesday\, Jan. 21. \nSponsored by Helen S. and Charles G. Patterson Jr. Charitable Foundation Trust\, Sovah Health and What’s Your Sign.
URL:https://www.visitmartinsville.com/event/exhibit-opening-reception-3/
LOCATION:Piedmont Arts\, 215 Starling Avenue\, Martinsville\, VA\, 24112\, United States
CATEGORIES:Arts & Cultural,Free Event,Lecture
ATTACH;FMTTYPE=image/jpeg:https://www.visitmartinsville.com/wp-content/uploads/2025/07/AWS-The-Journey-Stephen-Quiller.jpg
END:VEVENT
BEGIN:VEVENT
DTSTART;TZID=America/New_York:20260123T120000
DTEND;TZID=America/New_York:20260123T170000
DTSTAMP:20260419T094402
CREATED:20260107T185716Z
LAST-MODIFIED:20260107T185800Z
UID:10003178-1769169600-1769187600@www.visitmartinsville.com
SUMMARY:Angler's Choice Annual Open House
DESCRIPTION:Angler’s Choice is back with its annual Open House in Martinsville\, VA. This will be a two-day event\, 12 pm to 5 pm Friday and 9 am to 3 pm Saturday! This is an indoor event with vendors\, seminars\, and free refreshments. Pets on leash are welcome. For more information\, call 336-619-4235. Angler’s Choice proudly offers Ranger\, Triton\, Nitro\, and Tracker boats.
URL:https://www.visitmartinsville.com/event/anglers-choice-open-house/2026-01-23/
LOCATION:Angler’s Choice\, 6611 A L Philpott Hwy\, Martinsville\, VA\, 24112\, United States
CATEGORIES:Free Event,Fishing
ATTACH;FMTTYPE=image/jpeg:https://www.visitmartinsville.com/wp-content/uploads/2026/01/Anglers-Choice-Open-House.jpg
END:VEVENT
END:VCALENDAR