BEGIN:VCALENDAR
VERSION:2.0
PRODID:-//Martinsville Tourism - ECPv6.15.18//NONSGML v1.0//EN
CALSCALE:GREGORIAN
METHOD:PUBLISH
X-ORIGINAL-URL:https://www.visitmartinsville.com
X-WR-CALDESC:Events for Martinsville Tourism
REFRESH-INTERVAL;VALUE=DURATION:PT1H
X-Robots-Tag:noindex
X-PUBLISHED-TTL:PT1H
BEGIN:VTIMEZONE
TZID:America/New_York
BEGIN:DAYLIGHT
TZOFFSETFROM:-0500
TZOFFSETTO:-0400
TZNAME:EDT
DTSTART:20250309T070000
END:DAYLIGHT
BEGIN:STANDARD
TZOFFSETFROM:-0400
TZOFFSETTO:-0500
TZNAME:EST
DTSTART:20251102T060000
END:STANDARD
BEGIN:DAYLIGHT
TZOFFSETFROM:-0500
TZOFFSETTO:-0400
TZNAME:EDT
DTSTART:20260308T070000
END:DAYLIGHT
BEGIN:STANDARD
TZOFFSETFROM:-0400
TZOFFSETTO:-0500
TZNAME:EST
DTSTART:20261101T060000
END:STANDARD
BEGIN:DAYLIGHT
TZOFFSETFROM:-0500
TZOFFSETTO:-0400
TZNAME:EDT
DTSTART:20270314T070000
END:DAYLIGHT
BEGIN:STANDARD
TZOFFSETFROM:-0400
TZOFFSETTO:-0500
TZNAME:EST
DTSTART:20271107T060000
END:STANDARD
END:VTIMEZONE
BEGIN:VEVENT
DTSTART;TZID=America/New_York:20260329T130000
DTEND;TZID=America/New_York:20260329T150000
DTSTAMP:20260419T112339
CREATED:20260226T153446Z
LAST-MODIFIED:20260226T153446Z
UID:10005268-1774789200-1774796400@www.visitmartinsville.com
SUMMARY:Pokemon VG Cup - Q1 2026
DESCRIPTION:Join us at Starling Cards for our first Pokémon Video Game Cup!\nCompetitors will need to bring their own Nintendo Switch family console\, copy of Pokémon Scarlet or Pokémon Violet that is fully updated\, charger for their device\, and team list. Optionally competitors may bring an official wired controller and headphones. Matches will be best of three.\nPlease let us know if you have any questions!\n \nThe VGC Handbook can be found here: https://www.pokemon.com/…/play-pokemon-vgc-tournament…\n \nEntry: $10 
URL:https://www.visitmartinsville.com/event/pokemon-vg-cup-q1-2026/
LOCATION:Starling Ave Cards & Comics\, 937 Starling Ave\, Martinsville\, VA\, 24112\, United States
CATEGORIES:Gaming
ATTACH;FMTTYPE=image/jpeg:https://www.visitmartinsville.com/wp-content/uploads/2026/02/Starling_Pokemon-Cup.jpg
END:VEVENT
BEGIN:VEVENT
DTSTART;TZID=America/New_York:20260213T183000
DTEND;TZID=America/New_York:20260213T220000
DTSTAMP:20260419T112339
CREATED:20260120T154347Z
LAST-MODIFIED:20260120T154347Z
UID:10003212-1771007400-1771020000@www.visitmartinsville.com
SUMMARY:Casino Night: Valetine's Vegas Style
DESCRIPTION:Get ready to roll the dice and pretend you’re a high roller for a night! Make plans to join us for CASINO NIGHT! No experience necessary\, the trained dealers will teach you how to play- it’s all for FUN & PRIZES! Non monetary prizes awarded for the top 5 winners of the night\, but don’t despair\, everyone will have a chance to win door prizes! Palumbo’s @palumbosllc will be providing the catered meal and Charity League of M/HC @charity_league will be serving the drinks at the cash bar. \nEvent is pre-sale only so grab your tickets\, there’s a limited number and it’s going to be a blast! Ticket holders will have their name on the VIP list at the entry table. If you are purchasing multiple tickets\, please note names in the note section so everyone gets an entry for door prizes. Doors open at 6:30pm\, gaming tables open at 7pm. Bring your poker face! $60 includes dinner and play.
URL:https://www.visitmartinsville.com/event/casino-night-valetines-vegas-style/
LOCATION:The Legacy at Hatcher Farm\, 163 Hatcher Farm Rd\, Martinsville\, VA\, 24112\, United States
CATEGORIES:Gaming,Holiday
ATTACH;FMTTYPE=image/png:https://www.visitmartinsville.com/wp-content/uploads/2026/01/Calendar-Image-400-x-400-2026-01-20T104314.019.png
END:VEVENT
END:VCALENDAR