BEGIN:VCALENDAR
VERSION:2.0
PRODID:-//Martinsville Tourism - ECPv6.15.18//NONSGML v1.0//EN
CALSCALE:GREGORIAN
METHOD:PUBLISH
X-ORIGINAL-URL:https://www.visitmartinsville.com
X-WR-CALDESC:Events for Martinsville Tourism
REFRESH-INTERVAL;VALUE=DURATION:PT1H
X-Robots-Tag:noindex
X-PUBLISHED-TTL:PT1H
BEGIN:VTIMEZONE
TZID:America/New_York
BEGIN:DAYLIGHT
TZOFFSETFROM:-0500
TZOFFSETTO:-0400
TZNAME:EDT
DTSTART:20250309T070000
END:DAYLIGHT
BEGIN:STANDARD
TZOFFSETFROM:-0400
TZOFFSETTO:-0500
TZNAME:EST
DTSTART:20251102T060000
END:STANDARD
BEGIN:DAYLIGHT
TZOFFSETFROM:-0500
TZOFFSETTO:-0400
TZNAME:EDT
DTSTART:20260308T070000
END:DAYLIGHT
BEGIN:STANDARD
TZOFFSETFROM:-0400
TZOFFSETTO:-0500
TZNAME:EST
DTSTART:20261101T060000
END:STANDARD
BEGIN:DAYLIGHT
TZOFFSETFROM:-0500
TZOFFSETTO:-0400
TZNAME:EDT
DTSTART:20270314T070000
END:DAYLIGHT
BEGIN:STANDARD
TZOFFSETFROM:-0400
TZOFFSETTO:-0500
TZNAME:EST
DTSTART:20271107T060000
END:STANDARD
END:VTIMEZONE
BEGIN:VEVENT
DTSTART;TZID=America/New_York:20260425T183000
DTEND;TZID=America/New_York:20260425T213000
DTSTAMP:20260421T072129
CREATED:20260331T171239Z
LAST-MODIFIED:20260331T171239Z
UID:10005609-1777141800-1777152600@www.visitmartinsville.com
SUMMARY:Movies in the Park
DESCRIPTION:Free admission movies in the park hosted by the City of Martinsville Youth Advisory Committee.
URL:https://www.visitmartinsville.com/event/movies-in-the-park/
LOCATION:Baldwin Park\, 500 Swanson St\, Martinsville\, VA\, 24112\, United States
CATEGORIES:Arts & Cultural,Free Event,Children's Events,Crafts,Outdoors
ATTACH;FMTTYPE=image/jpeg:https://www.visitmartinsville.com/wp-content/uploads/2026/03/IMG_9608.jpeg
END:VEVENT
BEGIN:VEVENT
DTSTART;TZID=America/New_York:20260502T090000
DTEND;TZID=America/New_York:20260502T130000
DTSTAMP:20260421T072129
CREATED:20260413T162608Z
LAST-MODIFIED:20260413T162608Z
UID:10005635-1777712400-1777726800@www.visitmartinsville.com
SUMMARY:Paddle the Smith River with DRBA! (First Saturday Outing)
DESCRIPTION:The Dan River Basin Association (DRBA) will host the May 2\, 2026\, First Saturday Outing on the Smith River from the Bassett Access to the Great Road Access for a 5-mile paddle. Wayne Kirkpatrick\, avid paddler and a DRBA Outings Committee Member\, will coordinate the trip.\n \nWhere to Meet:\nParticipants are asked to meet by 9:00 a.m. at the Bassett Canoe Access\, 271 Trent Hill Drive\, Bassett\, VA (GPS 36.76992\,-80.00147) to unload boats and gear and set the shuttle. Constructed through a partnership of DRBA and Henry County\, both the Bassett and Great Road accesses are part of the Smith River Trail System\, a growing network of blueways and greenways designed to connect riverside communities through Henry County\, VA\, downstream to Eden\, NC.\n \nAbout the Access:\nThe Bassett Canoe Access\, opened in 2006\, is located at the now dormant J. D. Bassett Chair Factory\, which “stands as a silent testament to an historic furniture industry that once supplied America\,” according to “An Insider’s Guide to the Smith River.” As the Smith runs through the town of about 1\,030 residents\, remnants of the past remind paddlers of the river’s history. In the 19th century\, Smith’s River Navigation Company built rock wing dams and sluices to enable long\, narrow batteaux to haul iron and grain to market in Danville. Although commercial navigation on the river was short-lived\, the company’s wing dams survived and were modified by twentieth-century riverside industries for water intakes. Shortly below the put-in\, paddlers will pass the “Leaning Tower of Bassett\,” one of these later structures.\nOn river left\, the Norfolk Southern Railway line parallels the river the full length of the float\, serving past and present factories in this important industrial center. About a mile into the trip\, on river right is the Bassett Historical Center\, which houses a wealth of local historical and genealogical materials used by patrons from around the world. Just downstream is the third of six bridges that span this section of the river.\n \nA short distance below the fifth bridge is Blackberry Creek\, entering from river right. The Great Wagon Road crossed the Smith River nearby\, providing a route for settlers migrating through the region in days gone by.\n \nFrom Blackberry Creek for a half mile is “The Hayfields\,” where the river is shallow and “trout fishing is best accomplished by wading\,” according to avid trout fisherman Brian Williams. Trout thrive throughout this portion of the river. The take-out is at the Great Road Access which opened in September 2010. Solutia Performance Films granted easements for the access and for an adjacent 500-foot-long trail.\n \nWhat to Bring:\nParticipants in the outing are asked to bring boat\, paddle\, life jacket\, water\, snacks and/or lunch; wear water-shedding artificial fabric or wool (not cotton\, and certainly not blue jeans) Since the river may be shallow in places\, wear shoes appropriate for wading. All participants will be asked to sign a waiver.\n \nDirections:\nGoogle Maps: https://share.google/6STGHtMwoEUOLKSRS\nFrom US 220 north of Martinsville\, take the VA 57 West/Fairystone Park Highway exit towards Stanleytown/Bassett. In Bassett\, turn right onto Trent Hill Drive (Rt. 666). You will immediately cross the Smith River\, continue along Trent Hill Dr. to the Bassett Canoe Access to 271 Trent Hill Drive (GPS 36.76992\,-80.00147) which will be on the left beside the factory building.\n \nBE SAFE OUTDOORS! Be sure to check DRBA’s safety tips for hiking and paddling before you head out for an outdoor adventure! https://www.danriver.org/besafeoutdoors\n \nOutings and meetings of the Dan River Basin Association are open to the public without charge.\nFor trip information\, contact trip coordinator Wayne Kirkpatrick at wynbtyk@embarqmail.com or by phone at 540-570-3511.
URL:https://www.visitmartinsville.com/event/paddle-the-smith-river-with-drba-first-saturday-outing/
LOCATION:Smith River – North Bassett Access\, 271 Trenthill Drive\, Bassett\, VA\, 24055\, United States
CATEGORIES:Free Event,Outdoors
ATTACH;FMTTYPE=image/jpeg:https://www.visitmartinsville.com/wp-content/uploads/2026/04/Photo-May-06-2025-10-54-04-AM.jpg
ORGANIZER;CN="Dan River Basin Association":MAILTO:drba.nc@danriver.org
END:VEVENT
BEGIN:VEVENT
DTSTART;TZID=America/New_York:20260502T100000
DTEND;TZID=America/New_York:20260502T140000
DTSTAMP:20260421T072129
CREATED:20260303T181840Z
LAST-MODIFIED:20260303T181840Z
UID:10005282-1777716000-1777730400@www.visitmartinsville.com
SUMMARY:Town of Ridgeway 2nd Annual Bee City USA Festival
DESCRIPTION:Come out and celebrate our 2nd Annual Town of Ridgeway Bee City Festival which will be on Saturday\, May 2nd from 10:00 am to 2:00 pm. Learn about bees and the importance of pollinators. We will have plants for sale from various vendors to include the Magna Vista High School Horticulture Department\, Rusty Joints Ranch will be selling Goat Milk Products and Maci Penn with Joyful Canvas Facepaint will be happy to paint your face. We will have various craft vendors\, food trucks\, family activities\, information booths\, raffles and more. \nThis is a wonderful family-friendly event you won’t want to miss.
URL:https://www.visitmartinsville.com/event/town-of-ridgeway-2nd-annual-bee-city-usa-festival/
LOCATION:Almond Street\, Almond Street\, Ridgeway\, VA\, 24148\, United States
CATEGORIES:Arts & Cultural,Children's Events,Crafts,Festivals,Outdoors
ATTACH;FMTTYPE=image/jpeg:https://www.visitmartinsville.com/wp-content/uploads/2026/03/Final-2026-Bee-Flier.jpg
END:VEVENT
BEGIN:VEVENT
DTSTART;TZID=America/New_York:20260521T090000
DTEND;TZID=America/New_York:20260524T233000
DTSTAMP:20260421T072129
CREATED:20260206T172154Z
LAST-MODIFIED:20260206T172155Z
UID:10003399-1779354000-1779665400@www.visitmartinsville.com
SUMMARY:Rooster Walk 16 Music & Arts Festival
DESCRIPTION:ROOSTER WALK 16 MUSIC & ARTS FESTIVAL is set for May 21-24\, 2026 at the gorgeous Pop’s Farm in Martinsville\, VA\n \n Voted Best Music Festival in the Blue Ridge Outdoors reader poll!\n \n All tickets are on sale now! Some options are in low inventory (and others have sold out).\n \n Full Band Lineup: St. Paul & The Broken Bones ⬩ moe. ⬩ Daniel Donato’s Cosmic Country ⬩ Kitchen Dwellers ⬩ Keller Williams ⬩ Mountain Grass Unit ⬩ Eggy ⬩ Maggie Rose ⬩ Dumpstaphunk ⬩ John Brown’s Body ⬩ ShadowGrass ⬩ Clay Street Unit ⬩ Yarn ⬩ Holy Roller ⬩ Dizgo ⬩ Caitlin Krisko & The Broadcast ⬩ Tan & Sober Gentlemen ⬩ Rooster Walk House Band ⬩ Isaac Hadden ⬩ Kindred Valley ⬩ Paul McDonald and the Mourning Doves ⬩ Sol Driven Train ⬩ Magoo ⬩ The Ain’t Sisters ⬩ Jacoozy ⬩ Florencia & the Feeling ⬩ Moga Family Band ⬩ Hustle Souls ⬩ Big Fat Gap ⬩ Mountain Walrus ⬩ WOLPH ⬩ Jayce Turley ⬩ FellFree ⬩ Music Road Co ⬩ Gabriel Van ⬩ Courtney Lynn & Quinn ⬩ Jules & the Agreeables ⬩ Loose Connection ⬩ DJ What!? ⬩ Hunter Rhodes MAGIC ⬩ Raffi Tribute\n \n Plus\, Artists at Large: Josh Shilling ⬩ Jeff Sipe ⬩ Caitlin Krisko ⬩ Isaac Hadden ⬩ Florencia Rusinol ⬩ Wallace Mullinax ⬩ Sam on Sax ⬩ Jake Dempsey\n \n RSVP for updates and announcements on the 2026 Rooster Walk Music & Arts Festival\, to be held on Memorial Day Weekend.\n \n Walk-In Tent Camping is free with all tickets.\n \n Children 12 years old and younger get in free with an admitted adult.\n \n Every person (age 13 and up) needs an admission ticket. Every vehicle needs a parking or camping pass.\n \n In order to access the VIP Area\, including the VIP RV Campground\, patrons must have a VIP admission ticket.\n \n 45+ bands on 6 stages\, outdoor adventure\, yoga\, disc golf\, family fun\, and so much more! Find out more at RoosterWalk.com\n \n Free Shuttles!\n \n Rooster Walk YouTube TV: https://www.youtube.com/@RoosterWalk\n \n Connect with Rooster Walk attendees and fans in the fan-driven Facebook group: https://www.facebook.com/groups/439179106453794
URL:https://www.visitmartinsville.com/event/rooster-walk-16-music-arts-festival/
LOCATION:Pop’s Farm\, 675 Hobson Road\, Axton\, VA\, 24054\, United States
CATEGORIES:Live Music,Arts & Cultural,Outdoors
ATTACH;FMTTYPE=image/jpeg:https://www.visitmartinsville.com/wp-content/uploads/2026/02/RW-16_Bands.jpg
ORGANIZER;CN="Rooster Walk Inc.":MAILTO:info@roosterwalk.com
END:VEVENT
BEGIN:VEVENT
DTSTART;TZID=America/New_York:20260529T190000
DTEND;TZID=America/New_York:20260529T220000
DTSTAMP:20260421T072129
CREATED:20260306T144734Z
LAST-MODIFIED:20260306T144734Z
UID:10005289-1780081200-1780092000@www.visitmartinsville.com
SUMMARY:High Point Thomasville HITOMS vs Martinsville Mustangs
DESCRIPTION:Hooker Field at Lou Whitaker Park 450 Commonwealth Blvd E\, Martinsville\, VA
URL:https://www.visitmartinsville.com/event/high-point-thomasville-hitoms-vs-martinsville-mustangs/
LOCATION:Hooker Field at Lou Whitaker Park\, 450 Commonwealth Blvd.\, Martinsville\, VA\, 24112\, United States
CATEGORIES:Baseball,Outdoors,Spectator Sports
ATTACH;FMTTYPE=image/webp:https://www.visitmartinsville.com/wp-content/uploads/2026/03/Mustang-w_-Horseshoe-2.webp
END:VEVENT
BEGIN:VEVENT
DTSTART;TZID=America/New_York:20260531T190000
DTEND;TZID=America/New_York:20260531T220000
DTSTAMP:20260421T072129
CREATED:20260306T144857Z
LAST-MODIFIED:20260306T144857Z
UID:10005290-1780254000-1780264800@www.visitmartinsville.com
SUMMARY:Macon Bacon vs Martinsville Mustangs
DESCRIPTION:
URL:https://www.visitmartinsville.com/event/macon-bacon-vs-martinsville-mustangs/
LOCATION:Hooker Field at Lou Whitaker Park\, 450 Commonwealth Blvd.\, Martinsville\, VA\, 24112\, United States
CATEGORIES:Baseball,Outdoors,Spectator Sports
ATTACH;FMTTYPE=image/webp:https://www.visitmartinsville.com/wp-content/uploads/2026/03/Mustang-w_-Horseshoe-2.webp
END:VEVENT
BEGIN:VEVENT
DTSTART;TZID=America/New_York:20260601T190000
DTEND;TZID=America/New_York:20260601T220000
DTSTAMP:20260421T072129
CREATED:20260306T144956Z
LAST-MODIFIED:20260306T144956Z
UID:10005291-1780340400-1780351200@www.visitmartinsville.com
SUMMARY:Boone Bigfoots vs Martinsville Mustangs
DESCRIPTION:
URL:https://www.visitmartinsville.com/event/boone-bigfoots-vs-martinsville-mustangs/
LOCATION:Hooker Field at Lou Whitaker Park\, 450 Commonwealth Blvd.\, Martinsville\, VA\, 24112\, United States
CATEGORIES:Baseball,Outdoors,Spectator Sports
ATTACH;FMTTYPE=image/webp:https://www.visitmartinsville.com/wp-content/uploads/2026/03/Mustang-w_-Horseshoe-2.webp
END:VEVENT
BEGIN:VEVENT
DTSTART;TZID=America/New_York:20260603T190000
DTEND;TZID=America/New_York:20260603T220000
DTSTAMP:20260421T072129
CREATED:20260306T145105Z
LAST-MODIFIED:20260306T145105Z
UID:10005292-1780513200-1780524000@www.visitmartinsville.com
SUMMARY:Peninsula Pilots vs Martinsville Mustangs
DESCRIPTION:
URL:https://www.visitmartinsville.com/event/peninsula-pilots-vs-martinsville-mustangs/
LOCATION:Hooker Field at Lou Whitaker Park\, 450 Commonwealth Blvd.\, Martinsville\, VA\, 24112\, United States
CATEGORIES:Baseball,Outdoors,Spectator Sports
ATTACH;FMTTYPE=image/webp:https://www.visitmartinsville.com/wp-content/uploads/2026/03/Mustang-w_-Horseshoe-2.webp
END:VEVENT
BEGIN:VEVENT
DTSTART;TZID=America/New_York:20260605T190000
DTEND;TZID=America/New_York:20260605T220000
DTSTAMP:20260421T072129
CREATED:20260306T145208Z
LAST-MODIFIED:20260306T145208Z
UID:10005293-1780686000-1780696800@www.visitmartinsville.com
SUMMARY:Holly Springs Salamanders vs Martinsville Mustangs
DESCRIPTION:
URL:https://www.visitmartinsville.com/event/holly-springs-salamanders-vs-martinsville-mustangs/
LOCATION:Hooker Field at Lou Whitaker Park\, 450 Commonwealth Blvd.\, Martinsville\, VA\, 24112\, United States
CATEGORIES:Baseball,Outdoors,Spectator Sports
ATTACH;FMTTYPE=image/webp:https://www.visitmartinsville.com/wp-content/uploads/2026/03/Mustang-w_-Horseshoe-2.webp
END:VEVENT
BEGIN:VEVENT
DTSTART;TZID=America/New_York:20260607T190000
DTEND;TZID=America/New_York:20260607T220000
DTSTAMP:20260421T072129
CREATED:20260306T145324Z
LAST-MODIFIED:20260306T145324Z
UID:10005294-1780858800-1780869600@www.visitmartinsville.com
SUMMARY:Florence Flamingos vs Martinsville Mustangs
DESCRIPTION:
URL:https://www.visitmartinsville.com/event/florence-flamingos-vs-martinsville-mustangs/
LOCATION:Hooker Field at Lou Whitaker Park\, 450 Commonwealth Blvd.\, Martinsville\, VA\, 24112\, United States
CATEGORIES:Baseball,Outdoors,Spectator Sports
ATTACH;FMTTYPE=image/webp:https://www.visitmartinsville.com/wp-content/uploads/2026/03/Mustang-w_-Horseshoe-2.webp
END:VEVENT
BEGIN:VEVENT
DTSTART;TZID=America/New_York:20260612T183000
DTEND;TZID=America/New_York:20260612T230000
DTSTAMP:20260421T072129
CREATED:20260305T150750Z
LAST-MODIFIED:20260305T150750Z
UID:10005283-1781289000-1781305200@www.visitmartinsville.com
SUMMARY:Bassett\, VA Pro Rodeo
DESCRIPTION:Join us for the best rodeo action on dirt Friday and Saturday night June 12th and 13th starting at 8:00pm both nights. Gates open at 6:30pm Featuring the best rodeo athletes on the east coast. Bull Riding\, Bronc Riding and Barrel Racing. No dogs or coolers allowed. Tickets just $15. 6-12 years old are $10 Kids 5 and under are free. All tickets are cash only. Concessions will be available at the arena. Rain or shine its Rodeo Time. For more information 540-521-3959\n \nTickets are only available onsite cash only
URL:https://www.visitmartinsville.com/event/bassett-va-pro-rodeo/2026-06-12/
LOCATION:Patrick Henry Saddle Club\, 50 Clovehill Drive\, Bassett\, VA\, 24055\, United States
CATEGORIES:Outdoors,Spectator Sports
ATTACH;FMTTYPE=image/png:https://www.visitmartinsville.com/wp-content/uploads/2026/03/Calendar-Image-400-x-400-2026-03-05T100425.632.png
END:VEVENT
BEGIN:VEVENT
DTSTART;TZID=America/New_York:20260612T190000
DTEND;TZID=America/New_York:20260612T220000
DTSTAMP:20260421T072129
CREATED:20260306T145443Z
LAST-MODIFIED:20260306T145443Z
UID:10005295-1781290800-1781301600@www.visitmartinsville.com
SUMMARY:Boone Bigfoots vs Martinsville Mustangs
DESCRIPTION:
URL:https://www.visitmartinsville.com/event/boone-bigfoots-vs-martinsville-mustangs-2/
LOCATION:Hooker Field at Lou Whitaker Park\, 450 Commonwealth Blvd.\, Martinsville\, VA\, 24112\, United States
CATEGORIES:Baseball,Outdoors,Spectator Sports
ATTACH;FMTTYPE=image/webp:https://www.visitmartinsville.com/wp-content/uploads/2026/03/Mustang-w_-Horseshoe-2.webp
END:VEVENT
BEGIN:VEVENT
DTSTART;TZID=America/New_York:20260613T183000
DTEND;TZID=America/New_York:20260613T230000
DTSTAMP:20260421T072129
CREATED:20260305T150750Z
LAST-MODIFIED:20260305T150750Z
UID:10005284-1781375400-1781391600@www.visitmartinsville.com
SUMMARY:Bassett\, VA Pro Rodeo
DESCRIPTION:Join us for the best rodeo action on dirt Friday and Saturday night June 12th and 13th starting at 8:00pm both nights. Gates open at 6:30pm Featuring the best rodeo athletes on the east coast. Bull Riding\, Bronc Riding and Barrel Racing. No dogs or coolers allowed. Tickets just $15. 6-12 years old are $10 Kids 5 and under are free. All tickets are cash only. Concessions will be available at the arena. Rain or shine its Rodeo Time. For more information 540-521-3959\n \nTickets are only available onsite cash only
URL:https://www.visitmartinsville.com/event/bassett-va-pro-rodeo/2026-06-13/
LOCATION:Patrick Henry Saddle Club\, 50 Clovehill Drive\, Bassett\, VA\, 24055\, United States
CATEGORIES:Outdoors,Spectator Sports
ATTACH;FMTTYPE=image/png:https://www.visitmartinsville.com/wp-content/uploads/2026/03/Calendar-Image-400-x-400-2026-03-05T100425.632.png
END:VEVENT
BEGIN:VEVENT
DTSTART;TZID=America/New_York:20260613T190000
DTEND;TZID=America/New_York:20260613T220000
DTSTAMP:20260421T072129
CREATED:20260306T145554Z
LAST-MODIFIED:20260306T145554Z
UID:10005296-1781377200-1781388000@www.visitmartinsville.com
SUMMARY:Greenville Yard Gnomes vs Martinsville Mustangs
DESCRIPTION:
URL:https://www.visitmartinsville.com/event/greenville-yard-gnomes-vs-martinsville-mustangs/
LOCATION:Hooker Field at Lou Whitaker Park\, 450 Commonwealth Blvd.\, Martinsville\, VA\, 24112\, United States
CATEGORIES:Baseball,Outdoors,Spectator Sports
ATTACH;FMTTYPE=image/webp:https://www.visitmartinsville.com/wp-content/uploads/2026/03/Mustang-w_-Horseshoe-2.webp
END:VEVENT
BEGIN:VEVENT
DTSTART;TZID=America/New_York:20260615T190000
DTEND;TZID=America/New_York:20260615T220000
DTSTAMP:20260421T072129
CREATED:20260306T145654Z
LAST-MODIFIED:20260306T145654Z
UID:10005297-1781550000-1781560800@www.visitmartinsville.com
SUMMARY:High Point Thomasville HITOMS vs Martinsville Mustangs
DESCRIPTION:
URL:https://www.visitmartinsville.com/event/high-point-thomasville-hitoms-vs-martinsville-mustangs-2/
LOCATION:Hooker Field at Lou Whitaker Park\, 450 Commonwealth Blvd.\, Martinsville\, VA\, 24112\, United States
CATEGORIES:Baseball,Outdoors,Spectator Sports
ATTACH;FMTTYPE=image/webp:https://www.visitmartinsville.com/wp-content/uploads/2026/03/Mustang-w_-Horseshoe-2.webp
END:VEVENT
BEGIN:VEVENT
DTSTART;TZID=America/New_York:20260618T190000
DTEND;TZID=America/New_York:20260618T220000
DTSTAMP:20260421T072129
CREATED:20260306T145800Z
LAST-MODIFIED:20260306T145800Z
UID:10005298-1781809200-1781820000@www.visitmartinsville.com
SUMMARY:Asheboro Zookeepers vs Martinsville Mustangs
DESCRIPTION:
URL:https://www.visitmartinsville.com/event/asheboro-zookeepers-vs-martinsville-mustangs/
LOCATION:Hooker Field at Lou Whitaker Park\, 450 Commonwealth Blvd.\, Martinsville\, VA\, 24112\, United States
CATEGORIES:Baseball,Outdoors,Spectator Sports
ATTACH;FMTTYPE=image/webp:https://www.visitmartinsville.com/wp-content/uploads/2026/03/Mustang-w_-Horseshoe-2.webp
END:VEVENT
BEGIN:VEVENT
DTSTART;TZID=America/New_York:20260620T190000
DTEND;TZID=America/New_York:20260620T220000
DTSTAMP:20260421T072129
CREATED:20260306T145858Z
LAST-MODIFIED:20260306T145858Z
UID:10005299-1781982000-1781992800@www.visitmartinsville.com
SUMMARY:Asheboro Zookeepers vs Martinsville Mustangs
DESCRIPTION:
URL:https://www.visitmartinsville.com/event/asheboro-zookeepers-vs-martinsville-mustangs-2/
LOCATION:Hooker Field at Lou Whitaker Park\, 450 Commonwealth Blvd.\, Martinsville\, VA\, 24112\, United States
CATEGORIES:Baseball,Outdoors,Spectator Sports
ATTACH;FMTTYPE=image/webp:https://www.visitmartinsville.com/wp-content/uploads/2026/03/Mustang-w_-Horseshoe-2.webp
END:VEVENT
BEGIN:VEVENT
DTSTART;TZID=America/New_York:20260624T190000
DTEND;TZID=America/New_York:20260624T220000
DTSTAMP:20260421T072129
CREATED:20260306T150006Z
LAST-MODIFIED:20260306T150006Z
UID:10005300-1782327600-1782338400@www.visitmartinsville.com
SUMMARY:Boone Bigfoots vs Martinsville Mustangs
DESCRIPTION:
URL:https://www.visitmartinsville.com/event/boone-bigfoots-vs-martinsville-mustangs-3/
LOCATION:Hooker Field at Lou Whitaker Park\, 450 Commonwealth Blvd.\, Martinsville\, VA\, 24112\, United States
CATEGORIES:Baseball,Outdoors,Spectator Sports
ATTACH;FMTTYPE=image/webp:https://www.visitmartinsville.com/wp-content/uploads/2026/03/Mustang-w_-Horseshoe-2.webp
END:VEVENT
BEGIN:VEVENT
DTSTART;TZID=America/New_York:20260626T190000
DTEND;TZID=America/New_York:20260626T220000
DTSTAMP:20260421T072129
CREATED:20260306T150106Z
LAST-MODIFIED:20260306T150106Z
UID:10005301-1782500400-1782511200@www.visitmartinsville.com
SUMMARY:Forest City Owls vs Martinsville Mustangs
DESCRIPTION:
URL:https://www.visitmartinsville.com/event/forest-city-owls-vs-martinsville-mustangs/
LOCATION:Hooker Field at Lou Whitaker Park\, 450 Commonwealth Blvd.\, Martinsville\, VA\, 24112\, United States
CATEGORIES:Baseball,Outdoors,Spectator Sports
ATTACH;FMTTYPE=image/webp:https://www.visitmartinsville.com/wp-content/uploads/2026/03/Mustang-w_-Horseshoe-2.webp
END:VEVENT
BEGIN:VEVENT
DTSTART;TZID=America/New_York:20260628T190000
DTEND;TZID=America/New_York:20260628T220000
DTSTAMP:20260421T072129
CREATED:20260306T150217Z
LAST-MODIFIED:20260306T150217Z
UID:10005302-1782673200-1782684000@www.visitmartinsville.com
SUMMARY:High Point Thomasville HITOMS vs Martinsville Mustangs
DESCRIPTION:
URL:https://www.visitmartinsville.com/event/high-point-thomasville-hitoms-vs-martinsville-mustangs-3/
LOCATION:Hooker Field at Lou Whitaker Park\, 450 Commonwealth Blvd.\, Martinsville\, VA\, 24112\, United States
CATEGORIES:Baseball,Outdoors,Spectator Sports
ATTACH;FMTTYPE=image/webp:https://www.visitmartinsville.com/wp-content/uploads/2026/03/Mustang-w_-Horseshoe-2.webp
END:VEVENT
BEGIN:VEVENT
DTSTART;TZID=America/New_York:20260702T190000
DTEND;TZID=America/New_York:20260702T220000
DTSTAMP:20260421T072129
CREATED:20260306T150329Z
LAST-MODIFIED:20260306T150330Z
UID:10005303-1783018800-1783029600@www.visitmartinsville.com
SUMMARY:Asheboro Zookeepers vs Martinsville Mustangs
DESCRIPTION:
URL:https://www.visitmartinsville.com/event/asheboro-zookeepers-vs-martinsville-mustangs-3/
LOCATION:Hooker Field at Lou Whitaker Park\, 450 Commonwealth Blvd.\, Martinsville\, VA\, 24112\, United States
CATEGORIES:Baseball,Outdoors,Spectator Sports
ATTACH;FMTTYPE=image/webp:https://www.visitmartinsville.com/wp-content/uploads/2026/03/Mustang-w_-Horseshoe-2.webp
END:VEVENT
BEGIN:VEVENT
DTSTART;TZID=America/New_York:20260709T190000
DTEND;TZID=America/New_York:20260709T220000
DTSTAMP:20260421T072129
CREATED:20260306T150437Z
LAST-MODIFIED:20260306T150437Z
UID:10005304-1783623600-1783634400@www.visitmartinsville.com
SUMMARY:High Point Thomasville HITOMS vs Martinsville Mustangs
DESCRIPTION:
URL:https://www.visitmartinsville.com/event/high-point-thomasville-hitoms-vs-martinsville-mustangs-4/
LOCATION:Hooker Field at Lou Whitaker Park\, 450 Commonwealth Blvd.\, Martinsville\, VA\, 24112\, United States
CATEGORIES:Baseball,Outdoors,Spectator Sports
ATTACH;FMTTYPE=image/webp:https://www.visitmartinsville.com/wp-content/uploads/2026/03/Mustang-w_-Horseshoe-2.webp
END:VEVENT
BEGIN:VEVENT
DTSTART;TZID=America/New_York:20260711T190000
DTEND;TZID=America/New_York:20260711T220000
DTSTAMP:20260421T072129
CREATED:20260306T150536Z
LAST-MODIFIED:20260306T150536Z
UID:10005305-1783796400-1783807200@www.visitmartinsville.com
SUMMARY:Wilmington Sharks vs Martinsville Mustangs
DESCRIPTION:
URL:https://www.visitmartinsville.com/event/wilmington-sharks-vs-martinsville-mustangs/
LOCATION:Hooker Field at Lou Whitaker Park\, 450 Commonwealth Blvd.\, Martinsville\, VA\, 24112\, United States
CATEGORIES:Baseball,Outdoors,Spectator Sports
ATTACH;FMTTYPE=image/webp:https://www.visitmartinsville.com/wp-content/uploads/2026/03/Mustang-w_-Horseshoe-2.webp
END:VEVENT
BEGIN:VEVENT
DTSTART;TZID=America/New_York:20260713T190000
DTEND;TZID=America/New_York:20260713T220000
DTSTAMP:20260421T072129
CREATED:20260306T150809Z
LAST-MODIFIED:20260306T150809Z
UID:10005306-1783969200-1783980000@www.visitmartinsville.com
SUMMARY:Boone Bigfoots vs Martinsville Mustangs
DESCRIPTION:
URL:https://www.visitmartinsville.com/event/boone-bigfoots-vs-martinsville-mustangs-4/
LOCATION:Hooker Field at Lou Whitaker Park\, 450 Commonwealth Blvd.\, Martinsville\, VA\, 24112\, United States
CATEGORIES:Baseball,Outdoors,Spectator Sports
ATTACH;FMTTYPE=image/webp:https://www.visitmartinsville.com/wp-content/uploads/2026/03/Mustang-w_-Horseshoe-2.webp
END:VEVENT
BEGIN:VEVENT
DTSTART;TZID=America/New_York:20260718T190000
DTEND;TZID=America/New_York:20260718T220000
DTSTAMP:20260421T072129
CREATED:20260306T150918Z
LAST-MODIFIED:20260306T150918Z
UID:10005307-1784401200-1784412000@www.visitmartinsville.com
SUMMARY:Tri City Chili Peppers vs Martinsville Mustangs
DESCRIPTION:
URL:https://www.visitmartinsville.com/event/tri-city-chili-peppers-vs-martinsville-mustangs/
LOCATION:Hooker Field at Lou Whitaker Park\, 450 Commonwealth Blvd.\, Martinsville\, VA\, 24112\, United States
CATEGORIES:Baseball,Outdoors,Spectator Sports
ATTACH;FMTTYPE=image/webp:https://www.visitmartinsville.com/wp-content/uploads/2026/03/Mustang-w_-Horseshoe-2.webp
END:VEVENT
BEGIN:VEVENT
DTSTART;TZID=America/New_York:20260720T190000
DTEND;TZID=America/New_York:20260720T220000
DTSTAMP:20260421T072129
CREATED:20260306T151029Z
LAST-MODIFIED:20260306T151029Z
UID:10005308-1784574000-1784584800@www.visitmartinsville.com
SUMMARY:Asheboro Zookeepers vs Martinsville Mustangs
DESCRIPTION:
URL:https://www.visitmartinsville.com/event/asheboro-zookeepers-vs-martinsville-mustangs-4/
LOCATION:Hooker Field at Lou Whitaker Park\, 450 Commonwealth Blvd.\, Martinsville\, VA\, 24112\, United States
CATEGORIES:Baseball,Outdoors,Spectator Sports
ATTACH;FMTTYPE=image/webp:https://www.visitmartinsville.com/wp-content/uploads/2026/03/Mustang-w_-Horseshoe-2.webp
END:VEVENT
BEGIN:VEVENT
DTSTART;TZID=America/New_York:20260722T190000
DTEND;TZID=America/New_York:20260722T220000
DTSTAMP:20260421T072129
CREATED:20260306T151129Z
LAST-MODIFIED:20260306T151129Z
UID:10005309-1784746800-1784757600@www.visitmartinsville.com
SUMMARY:High Point Thomasville HITOMS vs Martinsville Mustangs
DESCRIPTION:
URL:https://www.visitmartinsville.com/event/high-point-thomasville-hitoms-vs-martinsville-mustangs-5/
LOCATION:Hooker Field at Lou Whitaker Park\, 450 Commonwealth Blvd.\, Martinsville\, VA\, 24112\, United States
CATEGORIES:Baseball,Outdoors,Spectator Sports
ATTACH;FMTTYPE=image/webp:https://www.visitmartinsville.com/wp-content/uploads/2026/03/Mustang-w_-Horseshoe-2.webp
END:VEVENT
BEGIN:VEVENT
DTSTART;TZID=America/New_York:20260724T190000
DTEND;TZID=America/New_York:20260724T220000
DTSTAMP:20260421T072129
CREATED:20260306T151226Z
LAST-MODIFIED:20260306T151226Z
UID:10005310-1784919600-1784930400@www.visitmartinsville.com
SUMMARY:Forest City Owls vs Martinsville Mustangs
DESCRIPTION:
URL:https://www.visitmartinsville.com/event/forest-city-owls-vs-martinsville-mustangs-2/
LOCATION:Hooker Field at Lou Whitaker Park\, 450 Commonwealth Blvd.\, Martinsville\, VA\, 24112\, United States
CATEGORIES:Baseball,Outdoors,Spectator Sports
ATTACH;FMTTYPE=image/webp:https://www.visitmartinsville.com/wp-content/uploads/2026/03/Mustang-w_-Horseshoe-2.webp
END:VEVENT
BEGIN:VEVENT
DTSTART;TZID=America/New_York:20260727T190000
DTEND;TZID=America/New_York:20260727T220000
DTSTAMP:20260421T072129
CREATED:20260306T151348Z
LAST-MODIFIED:20260306T151348Z
UID:10005311-1785178800-1785189600@www.visitmartinsville.com
SUMMARY:Lexington County Blowfish vs Martinsville Mustangs
DESCRIPTION:
URL:https://www.visitmartinsville.com/event/lexington-county-blowfish-vs-martinsville-mustangs/
LOCATION:Hooker Field at Lou Whitaker Park\, 450 Commonwealth Blvd.\, Martinsville\, VA\, 24112\, United States
CATEGORIES:Baseball,Outdoors,Spectator Sports
ATTACH;FMTTYPE=image/webp:https://www.visitmartinsville.com/wp-content/uploads/2026/03/Mustang-w_-Horseshoe-2.webp
END:VEVENT
BEGIN:VEVENT
DTSTART;TZID=America/New_York:20260731T190000
DTEND;TZID=America/New_York:20260731T220000
DTSTAMP:20260421T072129
CREATED:20260306T151459Z
LAST-MODIFIED:20260306T151459Z
UID:10005312-1785524400-1785535200@www.visitmartinsville.com
SUMMARY:Tri City Chili Peppers vs Martinsville Mustangs
DESCRIPTION:
URL:https://www.visitmartinsville.com/event/tri-city-chili-peppers-vs-martinsville-mustangs-2/
LOCATION:Hooker Field at Lou Whitaker Park\, 450 Commonwealth Blvd.\, Martinsville\, VA\, 24112\, United States
CATEGORIES:Baseball,Outdoors,Spectator Sports
ATTACH;FMTTYPE=image/webp:https://www.visitmartinsville.com/wp-content/uploads/2026/03/Mustang-w_-Horseshoe-2.webp
END:VEVENT
END:VCALENDAR