BEGIN:VCALENDAR
VERSION:2.0
PRODID:-//Martinsville Tourism - ECPv6.15.18//NONSGML v1.0//EN
CALSCALE:GREGORIAN
METHOD:PUBLISH
X-WR-CALNAME:Martinsville Tourism
X-ORIGINAL-URL:https://www.visitmartinsville.com
X-WR-CALDESC:Events for Martinsville Tourism
REFRESH-INTERVAL;VALUE=DURATION:PT1H
X-Robots-Tag:noindex
X-PUBLISHED-TTL:PT1H
BEGIN:VTIMEZONE
TZID:America/New_York
BEGIN:DAYLIGHT
TZOFFSETFROM:-0500
TZOFFSETTO:-0400
TZNAME:EDT
DTSTART:20250309T070000
END:DAYLIGHT
BEGIN:STANDARD
TZOFFSETFROM:-0400
TZOFFSETTO:-0500
TZNAME:EST
DTSTART:20251102T060000
END:STANDARD
BEGIN:DAYLIGHT
TZOFFSETFROM:-0500
TZOFFSETTO:-0400
TZNAME:EDT
DTSTART:20260308T070000
END:DAYLIGHT
BEGIN:STANDARD
TZOFFSETFROM:-0400
TZOFFSETTO:-0500
TZNAME:EST
DTSTART:20261101T060000
END:STANDARD
BEGIN:DAYLIGHT
TZOFFSETFROM:-0500
TZOFFSETTO:-0400
TZNAME:EDT
DTSTART:20270314T070000
END:DAYLIGHT
BEGIN:STANDARD
TZOFFSETFROM:-0400
TZOFFSETTO:-0500
TZNAME:EST
DTSTART:20271107T060000
END:STANDARD
END:VTIMEZONE
BEGIN:VEVENT
DTSTART;TZID=America/New_York:20260130T210000
DTEND;TZID=America/New_York:20260130T233000
DTSTAMP:20260419T114320
CREATED:20251113T165243Z
LAST-MODIFIED:20251113T165243Z
UID:10003092-1769806800-1769815800@www.visitmartinsville.com
SUMMARY:Karaoke Night at Wild Magnolia
DESCRIPTION:Wild Magnolia welcomes you every Friday night for Karaoke Night\, from 9 PM to midnight. Singers of all skill levels—good\, bad\, or somewhere in between—are invited to take the stage\, or simply cheer on friends and fellow performers. \nGuests can enjoy made-to-order food\, handcrafted cocktails\, and a selection of over 250 bourbons\, all served with genuine southern hospitality. \nLocated on the back side of Patrick Henry Mall\, Wild Magnolia may be a little tricky to find\, but the lively atmosphere and fun make it worth the visit. Bring your friends—because no one should sing alone!
URL:https://www.visitmartinsville.com/event/karaoke-night-at-wild-magnolia/2026-01-30/
LOCATION:Wild Magnolia\, 730 E Church St\, Suite 7A\, Martinsville\, VA\, 24112\, United States
CATEGORIES:Live Music,Beer/Wine/Spirits
ATTACH;FMTTYPE=image/jpeg:https://www.visitmartinsville.com/wp-content/uploads/2025/11/Wild-Mags_Karaoke.jpg
END:VEVENT
BEGIN:VEVENT
DTSTART;TZID=America/New_York:20260130T200000
DTEND;TZID=America/New_York:20260130T230000
DTSTAMP:20260419T114320
CREATED:20251229T180348Z
LAST-MODIFIED:20251229T180348Z
UID:10003168-1769803200-1769814000@www.visitmartinsville.com
SUMMARY:Thursday Night Special Band live at Tequila's Sports Bar and Grill
DESCRIPTION:Make plans the join us for a great evening of music and dance as we bring it to you from Tequilas Sports Bar and Grill. This will be our first time playing there and we are looking forward to having you join us.
URL:https://www.visitmartinsville.com/event/thursday-night-special-band-live-at-tequilas-sports-bar-and-grill/
LOCATION:Tequila’s Sports Bar and Grill\, 1051 Spruce St\, Martinsville\, VA\, 24112\, United States
CATEGORIES:Live Music
ATTACH;FMTTYPE=image/jpeg:https://www.visitmartinsville.com/wp-content/uploads/2025/07/495601719_617222644709471_8933052031197467216_n.jpg
END:VEVENT
BEGIN:VEVENT
DTSTART;TZID=America/New_York:20260130T200000
DTEND;TZID=America/New_York:20260130T230000
DTSTAMP:20260419T114320
CREATED:20250930T152331Z
LAST-MODIFIED:20251014T140619Z
UID:10002911-1769803200-1769814000@www.visitmartinsville.com
SUMMARY:Karaoke Night at Scuffle Hill Brewing Company
DESCRIPTION:NOW HAPPENING EVERY FRIDAY!\nRemy is hosting a Karaoke Night for us! Grab some friends and come sing some of your favorite tunes with your favorite tunes!\nWhy is it Cosmic? If you play in the Sunday D&D campaigns\, Remy will be doing special perks for any of the Sunday Campaign players that show up and sing! 
URL:https://www.visitmartinsville.com/event/karaoke-night-at-scuffle-hill-brewing-company/2026-01-30/
LOCATION:Scuffle Hill Brewing Company\, 2620 Virginia Avenue\, Collinsville\, VA\, 24078\, United States
CATEGORIES:Live Music
ATTACH;FMTTYPE=image/png:https://www.visitmartinsville.com/wp-content/uploads/2025/09/Calendar-Image-400-x-400-2025-09-30T112140.912.png
END:VEVENT
BEGIN:VEVENT
DTSTART;TZID=America/New_York:20260129T193000
DTEND;TZID=America/New_York:20260129T213000
DTSTAMP:20260419T114320
CREATED:20251113T155835Z
LAST-MODIFIED:20251117T203401Z
UID:10003035-1769715000-1769722200@www.visitmartinsville.com
SUMMARY:SINGO! at Scuffle Hill Brewing
DESCRIPTION:Scuffle Hill Brewing Company hosts Singo\, a fun\, musical twist on the classic game of Bingo\, every Thursday night. Instead of numbers\, players listen for clips of popular songs. Each participant receives a free Singo card with song titles—when a song plays\, players mark it on their card. \nThe first player to mark five songs in a row and shout “Singo!” wins the round. Singo combines great music\, friendly competition\, and a lively atmosphere\, making Thursday nights at Scuffle Hill Brewing Company a must for music lovers and game enthusiasts alike.
URL:https://www.visitmartinsville.com/event/singo-at-scuffle-hill-brewing/2026-01-29/
LOCATION:Scuffle Hill Brewing Company\, 2620 Virginia Avenue\, Collinsville\, VA\, 24078\, United States
CATEGORIES:Trivia,Beer/Wine/Spirits
ATTACH;FMTTYPE=image/jpeg:https://www.visitmartinsville.com/wp-content/uploads/2025/11/Scuffle-Hill_Singo.jpg
END:VEVENT
BEGIN:VEVENT
DTSTART;TZID=America/New_York:20260124T200000
DTEND;TZID=America/New_York:20260124T230000
DTSTAMP:20260419T114320
CREATED:20260113T164114Z
LAST-MODIFIED:20260113T164114Z
UID:10003192-1769284800-1769295600@www.visitmartinsville.com
SUMMARY:Matthew St Cyr LIVE at Scuffle Hill Brewing
DESCRIPTION:Come hear Matthew play a wide variety of country\, alternative rock\, & blues spanning from the 50s all the way to present day but specializing in those 70s\, 80s\, & 90s hits!
URL:https://www.visitmartinsville.com/event/matthew-st-cyr-live-at-scuffle-hill-brewing/
LOCATION:Scuffle Hill Brewing Company\, 2620 Virginia Avenue\, Collinsville\, VA\, 24078\, United States
CATEGORIES:Live Music
ATTACH;FMTTYPE=image/jpeg:https://www.visitmartinsville.com/wp-content/uploads/2026/01/608122765_1598814501502979_3640660954784834234_n.jpg
END:VEVENT
BEGIN:VEVENT
DTSTART;TZID=America/New_York:20260124T110000
DTEND;TZID=America/New_York:20260124T130000
DTSTAMP:20260419T114320
CREATED:20260113T180713Z
LAST-MODIFIED:20260113T180713Z
UID:10003206-1769252400-1769259600@www.visitmartinsville.com
SUMMARY:"Winter's Glow" Crushed Glass Reinscape at Spencer-Penn
DESCRIPTION:Unleash your creativity and capture the sparkling beauty of winter! \nWhen: Saturday\, January 10\, 2026 @ 11 am \nWhere: Spencer-Penn Center in Spencer\, VA \nJoin us for a hands-on workshop where you’ll learn the captivating art of crushed glass resin-scapes. We’ll guide you through the process of “painting” with light and texture to create a stunning 3D masterpiece in a 8″ x 10″ frame. \nIn this session\, you will: \nDesign Your Scene: Arrange branches and vibrant red cardinals on a canvas of shimmering glass. \nMaster the “Ice” Effect: Use a variety of glass to create a high-shine\, crystalline background. \nThe Finishing Touch: Learn how to apply a clear\, glass-like pour that locks your design in place and adds a professional\, high-gloss finish. \nNo prior art experience is required! You’ll leave with a beautiful\, framed piece of art that catches the light and adds a pop of winter to any room. \n💲 Cost: $60 per person\n🎨 Includes: All materials and hands-on instruction – high grade materials\, superb instruction\, and individualized masterpieces guaranteed! \nPLEASE READ THE FOLLOWING PRIOR TO BOOKING:\nYour project will be finished with a high-gloss liquid resin that creates a stunning “frozen in ice” effect. Please note that resin takes 24 hours to cure solid and must remain perfectly level during that time. You will have the option to leave your project with us for curing or transport it home to cure. Note: Hammer & Stain – Stuart\, VA is not responsible for resin shifts or leaks for projects transported while uncured. \nCreators under the age of 16 must be accompanied by an adult.
URL:https://www.visitmartinsville.com/event/winters-glow-crushed-glass-reinscape-at-spencer-penn/
LOCATION:Spencer-Penn Centre\, 475 Spencer-Penn Road\, P.O. Box 506\, Spencer\, VA\, 24165\, United States
CATEGORIES:Crafts
ATTACH;FMTTYPE=image/png:https://www.visitmartinsville.com/wp-content/uploads/2026/01/Calendar-Image-400-x-400-2026-01-13T130655.003.png
END:VEVENT
BEGIN:VEVENT
DTSTART;TZID=America/New_York:20260124T110000
DTEND;TZID=America/New_York:20260124T130000
DTSTAMP:20260419T114320
CREATED:20251229T180030Z
LAST-MODIFIED:20251229T180030Z
UID:10003167-1769252400-1769259600@www.visitmartinsville.com
SUMMARY:The 9th House Grand Opening
DESCRIPTION: The 9th House Grand Opening \nJanuary 24th | 11am\nThe 9th House was created as a space for expansion\, intention\, and meaning. A place where beauty feels purposeful and where the things you bring into your home and onto your body actually feel like you.\nWe chose January 24th intentionally.\nIn numerology\, 24 carries the energy of harmony\, care\, and creation\, a number tied to nurturing spaces and meaningful connections\, it felt like the perfect moment to open the doors and invite you in.\nJoin us for a slow\, welcoming opening:\n• light hors d’oeuvres\n• mimosas + coffee\n• a first look at our curated collection\nWe’d love to help you find just the right piece\, for your home\, your wardrobe\, or your self-care rituals. Come in and find something that feels grounding\, expressive\, and entirely your own.\nCome wander\, sip and seek
URL:https://www.visitmartinsville.com/event/the-9th-house-grand-opening/
LOCATION:The 9th House\, 15 E Church Street\, Martinsville\, VA\, 24112\, United States
CATEGORIES:General
ATTACH;FMTTYPE=image/png:https://www.visitmartinsville.com/wp-content/uploads/2025/12/Calendar-Image-400-x-400-2025-12-29T125822.260.png
END:VEVENT
BEGIN:VEVENT
DTSTART;TZID=America/New_York:20260124T090000
DTEND;TZID=America/New_York:20260124T150000
DTSTAMP:20260419T114320
CREATED:20260107T185716Z
LAST-MODIFIED:20260107T185800Z
UID:10003179-1769245200-1769266800@www.visitmartinsville.com
SUMMARY:Angler's Choice Annual Open House
DESCRIPTION:Angler’s Choice is back with its annual Open House in Martinsville\, VA. This will be a two-day event\, 12 pm to 5 pm Friday and 9 am to 3 pm Saturday! This is an indoor event with vendors\, seminars\, and free refreshments. Pets on leash are welcome. For more information\, call 336-619-4235. Angler’s Choice proudly offers Ranger\, Triton\, Nitro\, and Tracker boats.
URL:https://www.visitmartinsville.com/event/anglers-choice-open-house/2026-01-24/
LOCATION:Angler’s Choice\, 6611 A L Philpott Hwy\, Martinsville\, VA\, 24112\, United States
CATEGORIES:Free Event,Fishing
ATTACH;FMTTYPE=image/jpeg:https://www.visitmartinsville.com/wp-content/uploads/2026/01/Anglers-Choice-Open-House.jpg
END:VEVENT
BEGIN:VEVENT
DTSTART;TZID=America/New_York:20260123T210000
DTEND;TZID=America/New_York:20260123T233000
DTSTAMP:20260419T114320
CREATED:20251113T165243Z
LAST-MODIFIED:20251113T165243Z
UID:10003091-1769202000-1769211000@www.visitmartinsville.com
SUMMARY:Karaoke Night at Wild Magnolia
DESCRIPTION:Wild Magnolia welcomes you every Friday night for Karaoke Night\, from 9 PM to midnight. Singers of all skill levels—good\, bad\, or somewhere in between—are invited to take the stage\, or simply cheer on friends and fellow performers. \nGuests can enjoy made-to-order food\, handcrafted cocktails\, and a selection of over 250 bourbons\, all served with genuine southern hospitality. \nLocated on the back side of Patrick Henry Mall\, Wild Magnolia may be a little tricky to find\, but the lively atmosphere and fun make it worth the visit. Bring your friends—because no one should sing alone!
URL:https://www.visitmartinsville.com/event/karaoke-night-at-wild-magnolia/2026-01-23/
LOCATION:Wild Magnolia\, 730 E Church St\, Suite 7A\, Martinsville\, VA\, 24112\, United States
CATEGORIES:Live Music,Beer/Wine/Spirits
ATTACH;FMTTYPE=image/jpeg:https://www.visitmartinsville.com/wp-content/uploads/2025/11/Wild-Mags_Karaoke.jpg
END:VEVENT
BEGIN:VEVENT
DTSTART;TZID=America/New_York:20260123T200000
DTEND;TZID=America/New_York:20260123T230000
DTSTAMP:20260419T114320
CREATED:20250930T152331Z
LAST-MODIFIED:20251014T140619Z
UID:10002910-1769198400-1769209200@www.visitmartinsville.com
SUMMARY:Karaoke Night at Scuffle Hill Brewing Company
DESCRIPTION:NOW HAPPENING EVERY FRIDAY!\nRemy is hosting a Karaoke Night for us! Grab some friends and come sing some of your favorite tunes with your favorite tunes!\nWhy is it Cosmic? If you play in the Sunday D&D campaigns\, Remy will be doing special perks for any of the Sunday Campaign players that show up and sing! 
URL:https://www.visitmartinsville.com/event/karaoke-night-at-scuffle-hill-brewing-company/2026-01-23/
LOCATION:Scuffle Hill Brewing Company\, 2620 Virginia Avenue\, Collinsville\, VA\, 24078\, United States
CATEGORIES:Live Music
ATTACH;FMTTYPE=image/png:https://www.visitmartinsville.com/wp-content/uploads/2025/09/Calendar-Image-400-x-400-2025-09-30T112140.912.png
END:VEVENT
BEGIN:VEVENT
DTSTART;TZID=America/New_York:20260123T190000
DTEND;TZID=America/New_York:20260123T230000
DTSTAMP:20260419T114320
CREATED:20260113T181241Z
LAST-MODIFIED:20260113T181241Z
UID:10003207-1769194800-1769209200@www.visitmartinsville.com
SUMMARY:It's Time to Rewind to the 90's!
DESCRIPTION:Dust off your flannel and get ready to rock! Join us at “The Park” for a night of pure nostalgia\, featuring the best hits of the 1990s all night long.\n Hungry? The Clubhouse Grill will have food available for purchase.\nThe Details:\n General Admission: $30 at the door (includes 2 FREE drink tickets)\n Forest Park Members: Save $10! (includes 2 FREE drink tickets) Age: 21+ ONLY (ID required) 
URL:https://www.visitmartinsville.com/event/its-time-to-rewind-to-the-90s/
LOCATION:Forest Park Country Club\, 1821 Mulberry Road\, Martinsville\, VA\, 24112\, United States
CATEGORIES:General
ATTACH;FMTTYPE=image/png:https://www.visitmartinsville.com/wp-content/uploads/2026/01/Calendar-Image-400-x-400-2026-01-13T131141.023.png
END:VEVENT
BEGIN:VEVENT
DTSTART;TZID=America/New_York:20260123T173000
DTEND;TZID=America/New_York:20260123T193000
DTSTAMP:20260419T114320
CREATED:20250716T135134Z
LAST-MODIFIED:20250716T135134Z
UID:10002804-1769189400-1769196600@www.visitmartinsville.com
SUMMARY:Exhibit Opening Reception
DESCRIPTION:Join Piedmont Arts for an opening reception in honor of its new exhibits from 5:30-7:30 p.m.\, Friday\, Jan. 23 at the museum. A gallery talk will be held at 6:15 p.m. Complimentary refreshments will be served. \nExhibits on view: \n– American Watercolor Society 158th Annual International Exhibition\n– Act II: Paintings by Gail Doyle Smith\n– Paintings by Kelly Gravely Mattox \nThis event is free and open to the public. Please RSVP with the number and names of the attendees in your party by Wednesday\, Jan. 21. \nSponsored by Helen S. and Charles G. Patterson Jr. Charitable Foundation Trust\, Sovah Health and What’s Your Sign.
URL:https://www.visitmartinsville.com/event/exhibit-opening-reception-3/
LOCATION:Piedmont Arts\, 215 Starling Avenue\, Martinsville\, VA\, 24112\, United States
CATEGORIES:Arts & Cultural,Free Event,Lecture
ATTACH;FMTTYPE=image/jpeg:https://www.visitmartinsville.com/wp-content/uploads/2025/07/AWS-The-Journey-Stephen-Quiller.jpg
END:VEVENT
BEGIN:VEVENT
DTSTART;TZID=America/New_York:20260123T120000
DTEND;TZID=America/New_York:20260123T170000
DTSTAMP:20260419T114320
CREATED:20260107T185716Z
LAST-MODIFIED:20260107T185800Z
UID:10003178-1769169600-1769187600@www.visitmartinsville.com
SUMMARY:Angler's Choice Annual Open House
DESCRIPTION:Angler’s Choice is back with its annual Open House in Martinsville\, VA. This will be a two-day event\, 12 pm to 5 pm Friday and 9 am to 3 pm Saturday! This is an indoor event with vendors\, seminars\, and free refreshments. Pets on leash are welcome. For more information\, call 336-619-4235. Angler’s Choice proudly offers Ranger\, Triton\, Nitro\, and Tracker boats.
URL:https://www.visitmartinsville.com/event/anglers-choice-open-house/2026-01-23/
LOCATION:Angler’s Choice\, 6611 A L Philpott Hwy\, Martinsville\, VA\, 24112\, United States
CATEGORIES:Free Event,Fishing
ATTACH;FMTTYPE=image/jpeg:https://www.visitmartinsville.com/wp-content/uploads/2026/01/Anglers-Choice-Open-House.jpg
END:VEVENT
BEGIN:VEVENT
DTSTART;TZID=America/New_York:20260122T193000
DTEND;TZID=America/New_York:20260122T213000
DTSTAMP:20260419T114320
CREATED:20251113T155835Z
LAST-MODIFIED:20251117T203401Z
UID:10003034-1769110200-1769117400@www.visitmartinsville.com
SUMMARY:SINGO! at Scuffle Hill Brewing
DESCRIPTION:Scuffle Hill Brewing Company hosts Singo\, a fun\, musical twist on the classic game of Bingo\, every Thursday night. Instead of numbers\, players listen for clips of popular songs. Each participant receives a free Singo card with song titles—when a song plays\, players mark it on their card. \nThe first player to mark five songs in a row and shout “Singo!” wins the round. Singo combines great music\, friendly competition\, and a lively atmosphere\, making Thursday nights at Scuffle Hill Brewing Company a must for music lovers and game enthusiasts alike.
URL:https://www.visitmartinsville.com/event/singo-at-scuffle-hill-brewing/2026-01-22/
LOCATION:Scuffle Hill Brewing Company\, 2620 Virginia Avenue\, Collinsville\, VA\, 24078\, United States
CATEGORIES:Trivia,Beer/Wine/Spirits
ATTACH;FMTTYPE=image/jpeg:https://www.visitmartinsville.com/wp-content/uploads/2025/11/Scuffle-Hill_Singo.jpg
END:VEVENT
END:VCALENDAR