BEGIN:VCALENDAR
VERSION:2.0
PRODID:-//Martinsville Tourism - ECPv6.15.18//NONSGML v1.0//EN
CALSCALE:GREGORIAN
METHOD:PUBLISH
X-ORIGINAL-URL:https://www.visitmartinsville.com
X-WR-CALDESC:Events for Martinsville Tourism
REFRESH-INTERVAL;VALUE=DURATION:PT1H
X-Robots-Tag:noindex
X-PUBLISHED-TTL:PT1H
BEGIN:VTIMEZONE
TZID:America/New_York
BEGIN:DAYLIGHT
TZOFFSETFROM:-0500
TZOFFSETTO:-0400
TZNAME:EDT
DTSTART:20250309T070000
END:DAYLIGHT
BEGIN:STANDARD
TZOFFSETFROM:-0400
TZOFFSETTO:-0500
TZNAME:EST
DTSTART:20251102T060000
END:STANDARD
BEGIN:DAYLIGHT
TZOFFSETFROM:-0500
TZOFFSETTO:-0400
TZNAME:EDT
DTSTART:20260308T070000
END:DAYLIGHT
BEGIN:STANDARD
TZOFFSETFROM:-0400
TZOFFSETTO:-0500
TZNAME:EST
DTSTART:20261101T060000
END:STANDARD
BEGIN:DAYLIGHT
TZOFFSETFROM:-0500
TZOFFSETTO:-0400
TZNAME:EDT
DTSTART:20270314T070000
END:DAYLIGHT
BEGIN:STANDARD
TZOFFSETFROM:-0400
TZOFFSETTO:-0500
TZNAME:EST
DTSTART:20271107T060000
END:STANDARD
END:VTIMEZONE
BEGIN:VEVENT
DTSTART;TZID=America/New_York:20260425T100000
DTEND;TZID=America/New_York:20260425T160000
DTSTAMP:20260425T063951
CREATED:20260206T183148Z
LAST-MODIFIED:20260409T202207Z
UID:10003402-1777111200-1777132800@www.visitmartinsville.com
SUMMARY:Reptile Festival
DESCRIPTION:Slither your way into the Virginia Museum of Natural History in Martinsville on Friday\, April 24 and Saturday\, April 25 from 10 a.m. to 4 p.m. each day for the annual Reptile Festival!\n \nMarvel over extraordinary live reptiles and amphibians\, including snakes\, lizards\, turtles\, salamanders\, toads\, and more! Investigate reptile and amphibian specimens from the museum’s scientific collections\, including preserved specimens\, taxidermy mounts\, and even fossil reptiles! Explore the reptile links between different scientific disciplines\, such as herpetology\, paleontology\, and invertebrate zoology\, while interacting with scientists who are leaders in their fields!\n \nEnjoy a wide variety of hands-on\, reptile-themed crafts and activities! Capture your memory at the Reptile Festival Photo Booth! Be sure to stop by the balloon animal and face painting stations while you’re here…at no extra charge! Grab a bite to eat from one of the many on-site food truck options and round out your day by shopping for the perfect souvenir inside the Museum Store!\n \nFind more event info on the Virginia Museum of Natural History’s website. 
URL:https://www.visitmartinsville.com/event/reptile-festival/2026-04-25/
LOCATION:Virginia Museum of Natural History\, 21 Starling Avenue\, Martinsville\, VA\, 24112\, United States
CATEGORIES:Animals & Wildlife,Children's Events,Festivals
ATTACH;FMTTYPE=image/jpeg:https://www.visitmartinsville.com/wp-content/uploads/2026/02/VMNH_Reptile-Fest.jpg
END:VEVENT
BEGIN:VEVENT
DTSTART;TZID=America/New_York:20260425T190000
DTEND;TZID=America/New_York:20260425T210000
DTSTAMP:20260425T063951
CREATED:20260413T185500Z
LAST-MODIFIED:20260413T185500Z
UID:10005638-1777143600-1777150800@www.visitmartinsville.com
SUMMARY:The Savannah Sipping Society
DESCRIPTION:Join the Theatreworks Community Players for their next show: The Savannah Sipping Society!  \nSynopsis: Four unique Southern women\, all needing to escape the sameness of their day-to-day routines\, are drawn together by fate – and an impromptu happy hour – and decide it’s high time to reclaim their former enthusiasm for life. Over the course of six months filled with laughter\, hilarious misadventures\, and the occasional liquid refreshment\, these middle-aged women successfully bond and find the confidence to jump-start their new lives. Together\, they discover lasting friendships and a renewed determination to live in the moment – and most importantly\, realize it’s never too late to make new old friends. 
URL:https://www.visitmartinsville.com/event/the-savannah-sipping-society/2026-04-25/
LOCATION:Blackbox Theatre\, 44 Franklin Street\, Martinsville\, VA\, 24112\, United States
CATEGORIES:Theatre
ATTACH;FMTTYPE=image/jpeg:https://www.visitmartinsville.com/wp-content/uploads/2026/04/SSS-Poster.af_.jpg
ORGANIZER;CN="TheatreWorks Community Players":MAILTO:info@twcp.net
END:VEVENT
BEGIN:VEVENT
DTSTART;TZID=America/New_York:20260425T200000
DTEND;TZID=America/New_York:20260425T230000
DTSTAMP:20260425T063951
CREATED:20260305T151714Z
LAST-MODIFIED:20260305T151714Z
UID:10005286-1777147200-1777158000@www.visitmartinsville.com
SUMMARY:Jerry Wimmer LIVE at Scuffle Hill Brewing
DESCRIPTION:Former lead singer from The Worx band Jerry Wimmer\, will be with us for a solo acoustic show! Playing a lot of high energy tunes spanning multiple decades & genres that you’re sure to know and love! Come give him a warm welcome for his debut performance!
URL:https://www.visitmartinsville.com/event/jerry-wimmer-live-at-scuffle-hill-brewing/
LOCATION:Scuffle Hill Brewing Company\, 2620 Virginia Avenue\, Collinsville\, VA\, 24078\, United States
CATEGORIES:Live Music
ATTACH;FMTTYPE=image/jpeg:https://www.visitmartinsville.com/wp-content/uploads/2026/03/640996397_1642223933828702_7309626099153617443_n.jpg
END:VEVENT
BEGIN:VEVENT
DTSTART;TZID=America/New_York:20260428T103000
DTEND;TZID=America/New_York:20260428T120000
DTSTAMP:20260425T063951
CREATED:20260108T194432Z
LAST-MODIFIED:20260108T194432Z
UID:10003184-1777372200-1777377600@www.visitmartinsville.com
SUMMARY:Sex\, Liquor\, and Lawlessness in Early Roanoke
DESCRIPTION:A Wild West Town in Virginia’s Blue Ridge… During the 1880’s\, the new city of Roanoke attracted a large and diverse workforce and a multitude of merchants and investors. But like the western cow towns and mining camps of the same period\, the city also attracted prostitutes\, professional gamblers\, charlatans\, and common thieves. By the early 1900s\, Roanoke had become well known for its brothels\, saloons\, gambling halls\, and rampant lawlessness. Despite a campaign to clean up the city\, it was unable to shake its unsavory image. This was particularly true after Virginia went dry in 1916. With easy access to the moonshine whiskey that had long been produced in the surrounding mountains\, bootleg kingpins boldly transported illegal liquor into the city and used violence to protect their operations. Author Phillip Gibbs explores Roanoke’s early criminal underworld and how civic leaders and law enforcement struggled to free the city from its wild\, wicked\, and unrepentant reputation. \nPhillip Gibbs\, author of “Murder and Mountain Justice in the Moonshine Capital of the World”\, will be returning to the Bassett Historical Center on April 28\, 2026\, to talk about his new book\, “Sex\, Liquor\, and Lawlessness in Early Roanoke”. This program\, which is free and open to the public\, will begin at 10:30am and will be held in the Susan L. Adkins Memorial Meeting Room. Books will be available for purchase from the author.
URL:https://www.visitmartinsville.com/event/sex-liquor-and-lawlessness-in-early-roanoke/
LOCATION:Bassett Historical Center\, 3964 Fairystone Park Hwy\, Bassett\, VA\, 24055\, United States
CATEGORIES:History
ATTACH;FMTTYPE=image/jpeg:https://www.visitmartinsville.com/wp-content/uploads/2026/01/464860758_9098753406826254_460249887182911329_n.jpg
ORGANIZER;CN="Bassett Historical Center":MAILTO:bhcenter3964@gmail.com
END:VEVENT
BEGIN:VEVENT
DTSTART;TZID=America/New_York:20260429T200000
DTEND;TZID=America/New_York:20260429T230000
DTSTAMP:20260425T063951
CREATED:20260226T152629Z
LAST-MODIFIED:20260226T152839Z
UID:10005262-1777492800-1777503600@www.visitmartinsville.com
SUMMARY:Boot Scootin' & Groovin' Line Dancing
DESCRIPTION:Don’t say there’s nothing to do mid-week in MHC…there’s Line Dancing & Free Lessons with DJ Taylor at Wild Magnolia! EVERY Wednesday\, 8-11 pm.\nBONUS…it’s also Whiskey Wednesday! 20% off ALL 250+ Bourbons\, 50% off Wild Turkey\, and $5 Bourbon Peach Tea.\nPLUS…there’s always delicious\, made-to-order food!\nWild Magnolia is tucked away on the back corner of Patrick Henry Mall\, (276) 666-6666. Ya’ll join us!
URL:https://www.visitmartinsville.com/event/boot-scootin-groovin-line-dancing/2026-04-29/
LOCATION:Wild Magnolia\, 730 E Church St\, Suite 7A\, Martinsville\, VA\, 24112\, United States
CATEGORIES:Beer/Wine/Spirits,Dancing
ATTACH;FMTTYPE=image/png:https://www.visitmartinsville.com/wp-content/uploads/2026/02/Wild-Mags_Scootin.png
END:VEVENT
BEGIN:VEVENT
DTSTART;TZID=America/New_York:20260430T193000
DTEND;TZID=America/New_York:20260430T213000
DTSTAMP:20260425T063951
CREATED:20251113T155835Z
LAST-MODIFIED:20251117T203401Z
UID:10003048-1777577400-1777584600@www.visitmartinsville.com
SUMMARY:SINGO! at Scuffle Hill Brewing
DESCRIPTION:Scuffle Hill Brewing Company hosts Singo\, a fun\, musical twist on the classic game of Bingo\, every Thursday night. Instead of numbers\, players listen for clips of popular songs. Each participant receives a free Singo card with song titles—when a song plays\, players mark it on their card. \nThe first player to mark five songs in a row and shout “Singo!” wins the round. Singo combines great music\, friendly competition\, and a lively atmosphere\, making Thursday nights at Scuffle Hill Brewing Company a must for music lovers and game enthusiasts alike.
URL:https://www.visitmartinsville.com/event/singo-at-scuffle-hill-brewing/2026-04-30/
LOCATION:Scuffle Hill Brewing Company\, 2620 Virginia Avenue\, Collinsville\, VA\, 24078\, United States
CATEGORIES:Trivia,Beer/Wine/Spirits
ATTACH;FMTTYPE=image/jpeg:https://www.visitmartinsville.com/wp-content/uploads/2025/11/Scuffle-Hill_Singo.jpg
END:VEVENT
END:VCALENDAR