BEGIN:VCALENDAR
VERSION:2.0
PRODID:-//Martinsville Tourism - ECPv6.15.18//NONSGML v1.0//EN
CALSCALE:GREGORIAN
METHOD:PUBLISH
X-WR-CALNAME:Martinsville Tourism
X-ORIGINAL-URL:https://www.visitmartinsville.com
X-WR-CALDESC:Events for Martinsville Tourism
REFRESH-INTERVAL;VALUE=DURATION:PT1H
X-Robots-Tag:noindex
X-PUBLISHED-TTL:PT1H
BEGIN:VTIMEZONE
TZID:America/New_York
BEGIN:DAYLIGHT
TZOFFSETFROM:-0500
TZOFFSETTO:-0400
TZNAME:EDT
DTSTART:20250309T070000
END:DAYLIGHT
BEGIN:STANDARD
TZOFFSETFROM:-0400
TZOFFSETTO:-0500
TZNAME:EST
DTSTART:20251102T060000
END:STANDARD
BEGIN:DAYLIGHT
TZOFFSETFROM:-0500
TZOFFSETTO:-0400
TZNAME:EDT
DTSTART:20260308T070000
END:DAYLIGHT
BEGIN:STANDARD
TZOFFSETFROM:-0400
TZOFFSETTO:-0500
TZNAME:EST
DTSTART:20261101T060000
END:STANDARD
BEGIN:DAYLIGHT
TZOFFSETFROM:-0500
TZOFFSETTO:-0400
TZNAME:EDT
DTSTART:20270314T070000
END:DAYLIGHT
BEGIN:STANDARD
TZOFFSETFROM:-0400
TZOFFSETTO:-0500
TZNAME:EST
DTSTART:20271107T060000
END:STANDARD
END:VTIMEZONE
BEGIN:VEVENT
DTSTART;TZID=America/New_York:20260411T090000
DTEND;TZID=America/New_York:20260411T100000
DTSTAMP:20260421T121313
CREATED:20250121T170938Z
LAST-MODIFIED:20250121T170938Z
UID:10001291-1775898000-1775901600@www.visitmartinsville.com
SUMMARY:A Walk in the Park\, Hosted by All Vets
DESCRIPTION:All Vets have a mission to Honor the Fallen and Strengthen the Living. Mark your calendars for a Walk in the Park on the second Saturday of every month at 9 AM. This is not just a one-time event but a recurring monthly community get-together where we inspire each other to walk and get active at our own pace!\n \nTo sweeten the deal\, we encourage everyone to see an All Vets rep at their first walk and grab a “Frequent Walker Card!” Every third walk you attend\, you will receive a gift. Each month you attend\, remember to have your card punched so that you can get your gift every third month.\n \nWhether you walk a little or a lot\, fast or slow\, we hope you will join us for A Walk in the Park. It’s free to attend\, and please share with your community!
URL:https://www.visitmartinsville.com/event/a-walk-in-the-park-hosted-by-all-vets/2026-04-11/
LOCATION:Jack Dalton Park\, 130 Jack Dalton Road\, Collinsville\, VA\, 24078\, United States
CATEGORIES:Free Event,Walks/Runs,Health & Wellness
ATTACH;FMTTYPE=image/jpeg:https://www.visitmartinsville.com/wp-content/uploads/2025/01/A-Walk-in-the-Park.jpg
ORGANIZER;CN="All Vets":MAILTO:allvets.va@gmail.com
END:VEVENT
BEGIN:VEVENT
DTSTART;TZID=America/New_York:20260403T150000
DTEND;TZID=America/New_York:20260403T160000
DTSTAMP:20260421T121313
CREATED:20260313T143711Z
LAST-MODIFIED:20260313T143711Z
UID:10005584-1775228400-1775232000@www.visitmartinsville.com
SUMMARY:Henry County Parks & Rec Easter Egg Hunt
DESCRIPTION:Kids will search for over 7\,500 prize-filled eggs. There will be three different age groups looking for eggs in different parts of the park. Special prizes will be awarded to anyone who finds a golden egg. Egg-hunting baskets will be provided to anyone who needs one. Pre-registration is NOT required. This is a free and fast-moving event\, so show up early! 
URL:https://www.visitmartinsville.com/event/henry-county-parks-rec-easter-egg-hunt/
LOCATION:Jack Dalton Park\, 130 Jack Dalton Road\, Collinsville\, VA\, 24078\, United States
CATEGORIES:Children's Events,Holiday
ATTACH;FMTTYPE=image/png:https://www.visitmartinsville.com/wp-content/uploads/2026/03/Calendar-Image-400-x-400-2026-03-13T103337.662.png
END:VEVENT
BEGIN:VEVENT
DTSTART;TZID=America/New_York:20260314T090000
DTEND;TZID=America/New_York:20260314T100000
DTSTAMP:20260421T121313
CREATED:20250121T170938Z
LAST-MODIFIED:20250121T170938Z
UID:10001290-1773478800-1773482400@www.visitmartinsville.com
SUMMARY:A Walk in the Park\, Hosted by All Vets
DESCRIPTION:All Vets have a mission to Honor the Fallen and Strengthen the Living. Mark your calendars for a Walk in the Park on the second Saturday of every month at 9 AM. This is not just a one-time event but a recurring monthly community get-together where we inspire each other to walk and get active at our own pace!\n \nTo sweeten the deal\, we encourage everyone to see an All Vets rep at their first walk and grab a “Frequent Walker Card!” Every third walk you attend\, you will receive a gift. Each month you attend\, remember to have your card punched so that you can get your gift every third month.\n \nWhether you walk a little or a lot\, fast or slow\, we hope you will join us for A Walk in the Park. It’s free to attend\, and please share with your community!
URL:https://www.visitmartinsville.com/event/a-walk-in-the-park-hosted-by-all-vets/2026-03-14/
LOCATION:Jack Dalton Park\, 130 Jack Dalton Road\, Collinsville\, VA\, 24078\, United States
CATEGORIES:Free Event,Walks/Runs,Health & Wellness
ATTACH;FMTTYPE=image/jpeg:https://www.visitmartinsville.com/wp-content/uploads/2025/01/A-Walk-in-the-Park.jpg
ORGANIZER;CN="All Vets":MAILTO:allvets.va@gmail.com
END:VEVENT
BEGIN:VEVENT
DTSTART;TZID=America/New_York:20260214T090000
DTEND;TZID=America/New_York:20260214T100000
DTSTAMP:20260421T121313
CREATED:20250121T170938Z
LAST-MODIFIED:20250121T170938Z
UID:10001289-1771059600-1771063200@www.visitmartinsville.com
SUMMARY:A Walk in the Park\, Hosted by All Vets
DESCRIPTION:All Vets have a mission to Honor the Fallen and Strengthen the Living. Mark your calendars for a Walk in the Park on the second Saturday of every month at 9 AM. This is not just a one-time event but a recurring monthly community get-together where we inspire each other to walk and get active at our own pace!\n \nTo sweeten the deal\, we encourage everyone to see an All Vets rep at their first walk and grab a “Frequent Walker Card!” Every third walk you attend\, you will receive a gift. Each month you attend\, remember to have your card punched so that you can get your gift every third month.\n \nWhether you walk a little or a lot\, fast or slow\, we hope you will join us for A Walk in the Park. It’s free to attend\, and please share with your community!
URL:https://www.visitmartinsville.com/event/a-walk-in-the-park-hosted-by-all-vets/2026-02-14/
LOCATION:Jack Dalton Park\, 130 Jack Dalton Road\, Collinsville\, VA\, 24078\, United States
CATEGORIES:Free Event,Walks/Runs,Health & Wellness
ATTACH;FMTTYPE=image/jpeg:https://www.visitmartinsville.com/wp-content/uploads/2025/01/A-Walk-in-the-Park.jpg
ORGANIZER;CN="All Vets":MAILTO:allvets.va@gmail.com
END:VEVENT
END:VCALENDAR