BEGIN:VCALENDAR
VERSION:2.0
PRODID:-//Martinsville Tourism - ECPv6.15.18//NONSGML v1.0//EN
CALSCALE:GREGORIAN
METHOD:PUBLISH
X-ORIGINAL-URL:https://www.visitmartinsville.com
X-WR-CALDESC:Events for Martinsville Tourism
REFRESH-INTERVAL;VALUE=DURATION:PT1H
X-Robots-Tag:noindex
X-PUBLISHED-TTL:PT1H
BEGIN:VTIMEZONE
TZID:America/New_York
BEGIN:DAYLIGHT
TZOFFSETFROM:-0500
TZOFFSETTO:-0400
TZNAME:EDT
DTSTART:20250309T070000
END:DAYLIGHT
BEGIN:STANDARD
TZOFFSETFROM:-0400
TZOFFSETTO:-0500
TZNAME:EST
DTSTART:20251102T060000
END:STANDARD
BEGIN:DAYLIGHT
TZOFFSETFROM:-0500
TZOFFSETTO:-0400
TZNAME:EDT
DTSTART:20260308T070000
END:DAYLIGHT
BEGIN:STANDARD
TZOFFSETFROM:-0400
TZOFFSETTO:-0500
TZNAME:EST
DTSTART:20261101T060000
END:STANDARD
BEGIN:DAYLIGHT
TZOFFSETFROM:-0500
TZOFFSETTO:-0400
TZNAME:EDT
DTSTART:20270314T070000
END:DAYLIGHT
BEGIN:STANDARD
TZOFFSETFROM:-0400
TZOFFSETTO:-0500
TZNAME:EST
DTSTART:20271107T060000
END:STANDARD
END:VTIMEZONE
BEGIN:VEVENT
DTSTART;TZID=America/New_York:20260209T180000
DTEND;TZID=America/New_York:20260209T210000
DTSTAMP:20260421T082447
CREATED:20260127T183534Z
LAST-MODIFIED:20260127T183534Z
UID:10003262-1770660000-1770670800@www.visitmartinsville.com
SUMMARY:Galentine’s Dinner Party at Sue Sue's Soul Food
DESCRIPTION: Galentine’s Dinner Party \nGrab your girls and join us for a night of great food\, good vibes\, and even better company at our Galentine’s Dinner Party! This special evening is all about celebrating FRIENDSHIP\, LOVE\, and SISTERHOOD.\nEnjoy a delicious buffet-style dinner\, refreshing drinks\, and live music by Ja’Rell as we set the perfect mood for a fun and unforgettable night. Whether you’re single\, taken\, or just here for the food and vibes — this event is for YOU.\n Come dressed cute\n Eat good\n Dance\, laugh\, and celebrate together\n February 9th\n 6:00 PM\n 10 E. Church St.\, Suite 204\, Martinsville\, VA 24112\n $25 per person\n CashApp: $SueSueSoul or purchase at the restaurant\nSpots are limited — don’t miss out! 
URL:https://www.visitmartinsville.com/event/galentines-dinner-party-at-sue-sues-soul-food/
LOCATION:Sue Sue’s Soul Food\, 10 E. Chruch Street Suite 204\, Martinsville\, VA\, 24112\, United States
CATEGORIES:Holiday
ATTACH;FMTTYPE=image/png:https://www.visitmartinsville.com/wp-content/uploads/2026/01/Calendar-Image-400-x-400-2026-01-27T133351.070.png
END:VEVENT
END:VCALENDAR