BEGIN:VCALENDAR
VERSION:2.0
PRODID:-//Martinsville Tourism - ECPv6.15.18//NONSGML v1.0//EN
CALSCALE:GREGORIAN
METHOD:PUBLISH
X-ORIGINAL-URL:https://www.visitmartinsville.com
X-WR-CALDESC:Events for Martinsville Tourism
REFRESH-INTERVAL;VALUE=DURATION:PT1H
X-Robots-Tag:noindex
X-PUBLISHED-TTL:PT1H
BEGIN:VTIMEZONE
TZID:America/New_York
BEGIN:DAYLIGHT
TZOFFSETFROM:-0500
TZOFFSETTO:-0400
TZNAME:EDT
DTSTART:20250309T070000
END:DAYLIGHT
BEGIN:STANDARD
TZOFFSETFROM:-0400
TZOFFSETTO:-0500
TZNAME:EST
DTSTART:20251102T060000
END:STANDARD
BEGIN:DAYLIGHT
TZOFFSETFROM:-0500
TZOFFSETTO:-0400
TZNAME:EDT
DTSTART:20260308T070000
END:DAYLIGHT
BEGIN:STANDARD
TZOFFSETFROM:-0400
TZOFFSETTO:-0500
TZNAME:EST
DTSTART:20261101T060000
END:STANDARD
BEGIN:DAYLIGHT
TZOFFSETFROM:-0500
TZOFFSETTO:-0400
TZNAME:EDT
DTSTART:20270314T070000
END:DAYLIGHT
BEGIN:STANDARD
TZOFFSETFROM:-0400
TZOFFSETTO:-0500
TZNAME:EST
DTSTART:20271107T060000
END:STANDARD
END:VTIMEZONE
BEGIN:VEVENT
DTSTART;TZID=America/New_York:20260612T210000
DTEND;TZID=America/New_York:20260612T233000
DTSTAMP:20260424T043558
CREATED:20251113T165243Z
LAST-MODIFIED:20251113T165243Z
UID:10003111-1781298000-1781307000@www.visitmartinsville.com
SUMMARY:Karaoke Night at Wild Magnolia
DESCRIPTION:Wild Magnolia welcomes you every Friday night for Karaoke Night\, from 9 PM to midnight. Singers of all skill levels—good\, bad\, or somewhere in between—are invited to take the stage\, or simply cheer on friends and fellow performers. \nGuests can enjoy made-to-order food\, handcrafted cocktails\, and a selection of over 250 bourbons\, all served with genuine southern hospitality. \nLocated on the back side of Patrick Henry Mall\, Wild Magnolia may be a little tricky to find\, but the lively atmosphere and fun make it worth the visit. Bring your friends—because no one should sing alone!
URL:https://www.visitmartinsville.com/event/karaoke-night-at-wild-magnolia/2026-06-12/
LOCATION:Wild Magnolia\, 730 E Church St\, Suite 7A\, Martinsville\, VA\, 24112\, United States
CATEGORIES:Live Music,Beer/Wine/Spirits
ATTACH;FMTTYPE=image/jpeg:https://www.visitmartinsville.com/wp-content/uploads/2025/11/Wild-Mags_Karaoke.jpg
END:VEVENT
BEGIN:VEVENT
DTSTART;TZID=America/New_York:20260619T210000
DTEND;TZID=America/New_York:20260619T233000
DTSTAMP:20260424T043558
CREATED:20251113T165243Z
LAST-MODIFIED:20251113T165243Z
UID:10003112-1781902800-1781911800@www.visitmartinsville.com
SUMMARY:Karaoke Night at Wild Magnolia
DESCRIPTION:Wild Magnolia welcomes you every Friday night for Karaoke Night\, from 9 PM to midnight. Singers of all skill levels—good\, bad\, or somewhere in between—are invited to take the stage\, or simply cheer on friends and fellow performers. \nGuests can enjoy made-to-order food\, handcrafted cocktails\, and a selection of over 250 bourbons\, all served with genuine southern hospitality. \nLocated on the back side of Patrick Henry Mall\, Wild Magnolia may be a little tricky to find\, but the lively atmosphere and fun make it worth the visit. Bring your friends—because no one should sing alone!
URL:https://www.visitmartinsville.com/event/karaoke-night-at-wild-magnolia/2026-06-19/
LOCATION:Wild Magnolia\, 730 E Church St\, Suite 7A\, Martinsville\, VA\, 24112\, United States
CATEGORIES:Live Music,Beer/Wine/Spirits
ATTACH;FMTTYPE=image/jpeg:https://www.visitmartinsville.com/wp-content/uploads/2025/11/Wild-Mags_Karaoke.jpg
END:VEVENT
BEGIN:VEVENT
DTSTART;TZID=America/New_York:20260626T210000
DTEND;TZID=America/New_York:20260626T233000
DTSTAMP:20260424T043558
CREATED:20251113T165243Z
LAST-MODIFIED:20251113T165243Z
UID:10003113-1782507600-1782516600@www.visitmartinsville.com
SUMMARY:Karaoke Night at Wild Magnolia
DESCRIPTION:Wild Magnolia welcomes you every Friday night for Karaoke Night\, from 9 PM to midnight. Singers of all skill levels—good\, bad\, or somewhere in between—are invited to take the stage\, or simply cheer on friends and fellow performers. \nGuests can enjoy made-to-order food\, handcrafted cocktails\, and a selection of over 250 bourbons\, all served with genuine southern hospitality. \nLocated on the back side of Patrick Henry Mall\, Wild Magnolia may be a little tricky to find\, but the lively atmosphere and fun make it worth the visit. Bring your friends—because no one should sing alone!
URL:https://www.visitmartinsville.com/event/karaoke-night-at-wild-magnolia/2026-06-26/
LOCATION:Wild Magnolia\, 730 E Church St\, Suite 7A\, Martinsville\, VA\, 24112\, United States
CATEGORIES:Live Music,Beer/Wine/Spirits
ATTACH;FMTTYPE=image/jpeg:https://www.visitmartinsville.com/wp-content/uploads/2025/11/Wild-Mags_Karaoke.jpg
END:VEVENT
BEGIN:VEVENT
DTSTART;TZID=America/New_York:20260703T210000
DTEND;TZID=America/New_York:20260703T233000
DTSTAMP:20260424T043558
CREATED:20251113T165243Z
LAST-MODIFIED:20251113T165243Z
UID:10003114-1783112400-1783121400@www.visitmartinsville.com
SUMMARY:Karaoke Night at Wild Magnolia
DESCRIPTION:Wild Magnolia welcomes you every Friday night for Karaoke Night\, from 9 PM to midnight. Singers of all skill levels—good\, bad\, or somewhere in between—are invited to take the stage\, or simply cheer on friends and fellow performers. \nGuests can enjoy made-to-order food\, handcrafted cocktails\, and a selection of over 250 bourbons\, all served with genuine southern hospitality. \nLocated on the back side of Patrick Henry Mall\, Wild Magnolia may be a little tricky to find\, but the lively atmosphere and fun make it worth the visit. Bring your friends—because no one should sing alone!
URL:https://www.visitmartinsville.com/event/karaoke-night-at-wild-magnolia/2026-07-03/
LOCATION:Wild Magnolia\, 730 E Church St\, Suite 7A\, Martinsville\, VA\, 24112\, United States
CATEGORIES:Live Music,Beer/Wine/Spirits
ATTACH;FMTTYPE=image/jpeg:https://www.visitmartinsville.com/wp-content/uploads/2025/11/Wild-Mags_Karaoke.jpg
END:VEVENT
BEGIN:VEVENT
DTSTART;TZID=America/New_York:20260710T210000
DTEND;TZID=America/New_York:20260710T233000
DTSTAMP:20260424T043558
CREATED:20251113T165243Z
LAST-MODIFIED:20251113T165243Z
UID:10003115-1783717200-1783726200@www.visitmartinsville.com
SUMMARY:Karaoke Night at Wild Magnolia
DESCRIPTION:Wild Magnolia welcomes you every Friday night for Karaoke Night\, from 9 PM to midnight. Singers of all skill levels—good\, bad\, or somewhere in between—are invited to take the stage\, or simply cheer on friends and fellow performers. \nGuests can enjoy made-to-order food\, handcrafted cocktails\, and a selection of over 250 bourbons\, all served with genuine southern hospitality. \nLocated on the back side of Patrick Henry Mall\, Wild Magnolia may be a little tricky to find\, but the lively atmosphere and fun make it worth the visit. Bring your friends—because no one should sing alone!
URL:https://www.visitmartinsville.com/event/karaoke-night-at-wild-magnolia/2026-07-10/
LOCATION:Wild Magnolia\, 730 E Church St\, Suite 7A\, Martinsville\, VA\, 24112\, United States
CATEGORIES:Live Music,Beer/Wine/Spirits
ATTACH;FMTTYPE=image/jpeg:https://www.visitmartinsville.com/wp-content/uploads/2025/11/Wild-Mags_Karaoke.jpg
END:VEVENT
BEGIN:VEVENT
DTSTART;TZID=America/New_York:20260717T210000
DTEND;TZID=America/New_York:20260717T233000
DTSTAMP:20260424T043558
CREATED:20251113T165243Z
LAST-MODIFIED:20251113T165243Z
UID:10003116-1784322000-1784331000@www.visitmartinsville.com
SUMMARY:Karaoke Night at Wild Magnolia
DESCRIPTION:Wild Magnolia welcomes you every Friday night for Karaoke Night\, from 9 PM to midnight. Singers of all skill levels—good\, bad\, or somewhere in between—are invited to take the stage\, or simply cheer on friends and fellow performers. \nGuests can enjoy made-to-order food\, handcrafted cocktails\, and a selection of over 250 bourbons\, all served with genuine southern hospitality. \nLocated on the back side of Patrick Henry Mall\, Wild Magnolia may be a little tricky to find\, but the lively atmosphere and fun make it worth the visit. Bring your friends—because no one should sing alone!
URL:https://www.visitmartinsville.com/event/karaoke-night-at-wild-magnolia/2026-07-17/
LOCATION:Wild Magnolia\, 730 E Church St\, Suite 7A\, Martinsville\, VA\, 24112\, United States
CATEGORIES:Live Music,Beer/Wine/Spirits
ATTACH;FMTTYPE=image/jpeg:https://www.visitmartinsville.com/wp-content/uploads/2025/11/Wild-Mags_Karaoke.jpg
END:VEVENT
BEGIN:VEVENT
DTSTART;TZID=America/New_York:20260724T210000
DTEND;TZID=America/New_York:20260724T233000
DTSTAMP:20260424T043558
CREATED:20251113T165243Z
LAST-MODIFIED:20251113T165243Z
UID:10003117-1784926800-1784935800@www.visitmartinsville.com
SUMMARY:Karaoke Night at Wild Magnolia
DESCRIPTION:Wild Magnolia welcomes you every Friday night for Karaoke Night\, from 9 PM to midnight. Singers of all skill levels—good\, bad\, or somewhere in between—are invited to take the stage\, or simply cheer on friends and fellow performers. \nGuests can enjoy made-to-order food\, handcrafted cocktails\, and a selection of over 250 bourbons\, all served with genuine southern hospitality. \nLocated on the back side of Patrick Henry Mall\, Wild Magnolia may be a little tricky to find\, but the lively atmosphere and fun make it worth the visit. Bring your friends—because no one should sing alone!
URL:https://www.visitmartinsville.com/event/karaoke-night-at-wild-magnolia/2026-07-24/
LOCATION:Wild Magnolia\, 730 E Church St\, Suite 7A\, Martinsville\, VA\, 24112\, United States
CATEGORIES:Live Music,Beer/Wine/Spirits
ATTACH;FMTTYPE=image/jpeg:https://www.visitmartinsville.com/wp-content/uploads/2025/11/Wild-Mags_Karaoke.jpg
END:VEVENT
BEGIN:VEVENT
DTSTART;TZID=America/New_York:20260731T210000
DTEND;TZID=America/New_York:20260731T233000
DTSTAMP:20260424T043558
CREATED:20251113T165243Z
LAST-MODIFIED:20251113T165243Z
UID:10003118-1785531600-1785540600@www.visitmartinsville.com
SUMMARY:Karaoke Night at Wild Magnolia
DESCRIPTION:Wild Magnolia welcomes you every Friday night for Karaoke Night\, from 9 PM to midnight. Singers of all skill levels—good\, bad\, or somewhere in between—are invited to take the stage\, or simply cheer on friends and fellow performers. \nGuests can enjoy made-to-order food\, handcrafted cocktails\, and a selection of over 250 bourbons\, all served with genuine southern hospitality. \nLocated on the back side of Patrick Henry Mall\, Wild Magnolia may be a little tricky to find\, but the lively atmosphere and fun make it worth the visit. Bring your friends—because no one should sing alone!
URL:https://www.visitmartinsville.com/event/karaoke-night-at-wild-magnolia/2026-07-31/
LOCATION:Wild Magnolia\, 730 E Church St\, Suite 7A\, Martinsville\, VA\, 24112\, United States
CATEGORIES:Live Music,Beer/Wine/Spirits
ATTACH;FMTTYPE=image/jpeg:https://www.visitmartinsville.com/wp-content/uploads/2025/11/Wild-Mags_Karaoke.jpg
END:VEVENT
BEGIN:VEVENT
DTSTART;TZID=America/New_York:20260807T210000
DTEND;TZID=America/New_York:20260807T233000
DTSTAMP:20260424T043558
CREATED:20251113T165243Z
LAST-MODIFIED:20251113T165243Z
UID:10003119-1786136400-1786145400@www.visitmartinsville.com
SUMMARY:Karaoke Night at Wild Magnolia
DESCRIPTION:Wild Magnolia welcomes you every Friday night for Karaoke Night\, from 9 PM to midnight. Singers of all skill levels—good\, bad\, or somewhere in between—are invited to take the stage\, or simply cheer on friends and fellow performers. \nGuests can enjoy made-to-order food\, handcrafted cocktails\, and a selection of over 250 bourbons\, all served with genuine southern hospitality. \nLocated on the back side of Patrick Henry Mall\, Wild Magnolia may be a little tricky to find\, but the lively atmosphere and fun make it worth the visit. Bring your friends—because no one should sing alone!
URL:https://www.visitmartinsville.com/event/karaoke-night-at-wild-magnolia/2026-08-07/
LOCATION:Wild Magnolia\, 730 E Church St\, Suite 7A\, Martinsville\, VA\, 24112\, United States
CATEGORIES:Live Music,Beer/Wine/Spirits
ATTACH;FMTTYPE=image/jpeg:https://www.visitmartinsville.com/wp-content/uploads/2025/11/Wild-Mags_Karaoke.jpg
END:VEVENT
BEGIN:VEVENT
DTSTART;TZID=America/New_York:20260814T210000
DTEND;TZID=America/New_York:20260814T233000
DTSTAMP:20260424T043558
CREATED:20251113T165243Z
LAST-MODIFIED:20251113T165243Z
UID:10003120-1786741200-1786750200@www.visitmartinsville.com
SUMMARY:Karaoke Night at Wild Magnolia
DESCRIPTION:Wild Magnolia welcomes you every Friday night for Karaoke Night\, from 9 PM to midnight. Singers of all skill levels—good\, bad\, or somewhere in between—are invited to take the stage\, or simply cheer on friends and fellow performers. \nGuests can enjoy made-to-order food\, handcrafted cocktails\, and a selection of over 250 bourbons\, all served with genuine southern hospitality. \nLocated on the back side of Patrick Henry Mall\, Wild Magnolia may be a little tricky to find\, but the lively atmosphere and fun make it worth the visit. Bring your friends—because no one should sing alone!
URL:https://www.visitmartinsville.com/event/karaoke-night-at-wild-magnolia/2026-08-14/
LOCATION:Wild Magnolia\, 730 E Church St\, Suite 7A\, Martinsville\, VA\, 24112\, United States
CATEGORIES:Live Music,Beer/Wine/Spirits
ATTACH;FMTTYPE=image/jpeg:https://www.visitmartinsville.com/wp-content/uploads/2025/11/Wild-Mags_Karaoke.jpg
END:VEVENT
BEGIN:VEVENT
DTSTART;TZID=America/New_York:20260821T210000
DTEND;TZID=America/New_York:20260821T233000
DTSTAMP:20260424T043558
CREATED:20251113T165243Z
LAST-MODIFIED:20251113T165243Z
UID:10003121-1787346000-1787355000@www.visitmartinsville.com
SUMMARY:Karaoke Night at Wild Magnolia
DESCRIPTION:Wild Magnolia welcomes you every Friday night for Karaoke Night\, from 9 PM to midnight. Singers of all skill levels—good\, bad\, or somewhere in between—are invited to take the stage\, or simply cheer on friends and fellow performers. \nGuests can enjoy made-to-order food\, handcrafted cocktails\, and a selection of over 250 bourbons\, all served with genuine southern hospitality. \nLocated on the back side of Patrick Henry Mall\, Wild Magnolia may be a little tricky to find\, but the lively atmosphere and fun make it worth the visit. Bring your friends—because no one should sing alone!
URL:https://www.visitmartinsville.com/event/karaoke-night-at-wild-magnolia/2026-08-21/
LOCATION:Wild Magnolia\, 730 E Church St\, Suite 7A\, Martinsville\, VA\, 24112\, United States
CATEGORIES:Live Music,Beer/Wine/Spirits
ATTACH;FMTTYPE=image/jpeg:https://www.visitmartinsville.com/wp-content/uploads/2025/11/Wild-Mags_Karaoke.jpg
END:VEVENT
BEGIN:VEVENT
DTSTART;TZID=America/New_York:20260828T210000
DTEND;TZID=America/New_York:20260828T233000
DTSTAMP:20260424T043558
CREATED:20251113T165243Z
LAST-MODIFIED:20251113T165243Z
UID:10003122-1787950800-1787959800@www.visitmartinsville.com
SUMMARY:Karaoke Night at Wild Magnolia
DESCRIPTION:Wild Magnolia welcomes you every Friday night for Karaoke Night\, from 9 PM to midnight. Singers of all skill levels—good\, bad\, or somewhere in between—are invited to take the stage\, or simply cheer on friends and fellow performers. \nGuests can enjoy made-to-order food\, handcrafted cocktails\, and a selection of over 250 bourbons\, all served with genuine southern hospitality. \nLocated on the back side of Patrick Henry Mall\, Wild Magnolia may be a little tricky to find\, but the lively atmosphere and fun make it worth the visit. Bring your friends—because no one should sing alone!
URL:https://www.visitmartinsville.com/event/karaoke-night-at-wild-magnolia/2026-08-28/
LOCATION:Wild Magnolia\, 730 E Church St\, Suite 7A\, Martinsville\, VA\, 24112\, United States
CATEGORIES:Live Music,Beer/Wine/Spirits
ATTACH;FMTTYPE=image/jpeg:https://www.visitmartinsville.com/wp-content/uploads/2025/11/Wild-Mags_Karaoke.jpg
END:VEVENT
BEGIN:VEVENT
DTSTART;TZID=America/New_York:20260904T210000
DTEND;TZID=America/New_York:20260904T233000
DTSTAMP:20260424T043558
CREATED:20251113T165243Z
LAST-MODIFIED:20251113T165243Z
UID:10003123-1788555600-1788564600@www.visitmartinsville.com
SUMMARY:Karaoke Night at Wild Magnolia
DESCRIPTION:Wild Magnolia welcomes you every Friday night for Karaoke Night\, from 9 PM to midnight. Singers of all skill levels—good\, bad\, or somewhere in between—are invited to take the stage\, or simply cheer on friends and fellow performers. \nGuests can enjoy made-to-order food\, handcrafted cocktails\, and a selection of over 250 bourbons\, all served with genuine southern hospitality. \nLocated on the back side of Patrick Henry Mall\, Wild Magnolia may be a little tricky to find\, but the lively atmosphere and fun make it worth the visit. Bring your friends—because no one should sing alone!
URL:https://www.visitmartinsville.com/event/karaoke-night-at-wild-magnolia/2026-09-04/
LOCATION:Wild Magnolia\, 730 E Church St\, Suite 7A\, Martinsville\, VA\, 24112\, United States
CATEGORIES:Live Music,Beer/Wine/Spirits
ATTACH;FMTTYPE=image/jpeg:https://www.visitmartinsville.com/wp-content/uploads/2025/11/Wild-Mags_Karaoke.jpg
END:VEVENT
BEGIN:VEVENT
DTSTART;TZID=America/New_York:20260911T210000
DTEND;TZID=America/New_York:20260911T233000
DTSTAMP:20260424T043558
CREATED:20251113T165243Z
LAST-MODIFIED:20251113T165243Z
UID:10003124-1789160400-1789169400@www.visitmartinsville.com
SUMMARY:Karaoke Night at Wild Magnolia
DESCRIPTION:Wild Magnolia welcomes you every Friday night for Karaoke Night\, from 9 PM to midnight. Singers of all skill levels—good\, bad\, or somewhere in between—are invited to take the stage\, or simply cheer on friends and fellow performers. \nGuests can enjoy made-to-order food\, handcrafted cocktails\, and a selection of over 250 bourbons\, all served with genuine southern hospitality. \nLocated on the back side of Patrick Henry Mall\, Wild Magnolia may be a little tricky to find\, but the lively atmosphere and fun make it worth the visit. Bring your friends—because no one should sing alone!
URL:https://www.visitmartinsville.com/event/karaoke-night-at-wild-magnolia/2026-09-11/
LOCATION:Wild Magnolia\, 730 E Church St\, Suite 7A\, Martinsville\, VA\, 24112\, United States
CATEGORIES:Live Music,Beer/Wine/Spirits
ATTACH;FMTTYPE=image/jpeg:https://www.visitmartinsville.com/wp-content/uploads/2025/11/Wild-Mags_Karaoke.jpg
END:VEVENT
BEGIN:VEVENT
DTSTART;TZID=America/New_York:20260918T210000
DTEND;TZID=America/New_York:20260918T233000
DTSTAMP:20260424T043558
CREATED:20251113T165243Z
LAST-MODIFIED:20251113T165243Z
UID:10003125-1789765200-1789774200@www.visitmartinsville.com
SUMMARY:Karaoke Night at Wild Magnolia
DESCRIPTION:Wild Magnolia welcomes you every Friday night for Karaoke Night\, from 9 PM to midnight. Singers of all skill levels—good\, bad\, or somewhere in between—are invited to take the stage\, or simply cheer on friends and fellow performers. \nGuests can enjoy made-to-order food\, handcrafted cocktails\, and a selection of over 250 bourbons\, all served with genuine southern hospitality. \nLocated on the back side of Patrick Henry Mall\, Wild Magnolia may be a little tricky to find\, but the lively atmosphere and fun make it worth the visit. Bring your friends—because no one should sing alone!
URL:https://www.visitmartinsville.com/event/karaoke-night-at-wild-magnolia/2026-09-18/
LOCATION:Wild Magnolia\, 730 E Church St\, Suite 7A\, Martinsville\, VA\, 24112\, United States
CATEGORIES:Live Music,Beer/Wine/Spirits
ATTACH;FMTTYPE=image/jpeg:https://www.visitmartinsville.com/wp-content/uploads/2025/11/Wild-Mags_Karaoke.jpg
END:VEVENT
BEGIN:VEVENT
DTSTART;TZID=America/New_York:20260925T210000
DTEND;TZID=America/New_York:20260925T233000
DTSTAMP:20260424T043558
CREATED:20251113T165243Z
LAST-MODIFIED:20251113T165243Z
UID:10003126-1790370000-1790379000@www.visitmartinsville.com
SUMMARY:Karaoke Night at Wild Magnolia
DESCRIPTION:Wild Magnolia welcomes you every Friday night for Karaoke Night\, from 9 PM to midnight. Singers of all skill levels—good\, bad\, or somewhere in between—are invited to take the stage\, or simply cheer on friends and fellow performers. \nGuests can enjoy made-to-order food\, handcrafted cocktails\, and a selection of over 250 bourbons\, all served with genuine southern hospitality. \nLocated on the back side of Patrick Henry Mall\, Wild Magnolia may be a little tricky to find\, but the lively atmosphere and fun make it worth the visit. Bring your friends—because no one should sing alone!
URL:https://www.visitmartinsville.com/event/karaoke-night-at-wild-magnolia/2026-09-25/
LOCATION:Wild Magnolia\, 730 E Church St\, Suite 7A\, Martinsville\, VA\, 24112\, United States
CATEGORIES:Live Music,Beer/Wine/Spirits
ATTACH;FMTTYPE=image/jpeg:https://www.visitmartinsville.com/wp-content/uploads/2025/11/Wild-Mags_Karaoke.jpg
END:VEVENT
BEGIN:VEVENT
DTSTART;TZID=America/New_York:20261002T210000
DTEND;TZID=America/New_York:20261002T233000
DTSTAMP:20260424T043558
CREATED:20251113T165243Z
LAST-MODIFIED:20251113T165243Z
UID:10003127-1790974800-1790983800@www.visitmartinsville.com
SUMMARY:Karaoke Night at Wild Magnolia
DESCRIPTION:Wild Magnolia welcomes you every Friday night for Karaoke Night\, from 9 PM to midnight. Singers of all skill levels—good\, bad\, or somewhere in between—are invited to take the stage\, or simply cheer on friends and fellow performers. \nGuests can enjoy made-to-order food\, handcrafted cocktails\, and a selection of over 250 bourbons\, all served with genuine southern hospitality. \nLocated on the back side of Patrick Henry Mall\, Wild Magnolia may be a little tricky to find\, but the lively atmosphere and fun make it worth the visit. Bring your friends—because no one should sing alone!
URL:https://www.visitmartinsville.com/event/karaoke-night-at-wild-magnolia/2026-10-02/
LOCATION:Wild Magnolia\, 730 E Church St\, Suite 7A\, Martinsville\, VA\, 24112\, United States
CATEGORIES:Live Music,Beer/Wine/Spirits
ATTACH;FMTTYPE=image/jpeg:https://www.visitmartinsville.com/wp-content/uploads/2025/11/Wild-Mags_Karaoke.jpg
END:VEVENT
BEGIN:VEVENT
DTSTART;TZID=America/New_York:20261009T210000
DTEND;TZID=America/New_York:20261009T233000
DTSTAMP:20260424T043558
CREATED:20251113T165243Z
LAST-MODIFIED:20251113T165243Z
UID:10003128-1791579600-1791588600@www.visitmartinsville.com
SUMMARY:Karaoke Night at Wild Magnolia
DESCRIPTION:Wild Magnolia welcomes you every Friday night for Karaoke Night\, from 9 PM to midnight. Singers of all skill levels—good\, bad\, or somewhere in between—are invited to take the stage\, or simply cheer on friends and fellow performers. \nGuests can enjoy made-to-order food\, handcrafted cocktails\, and a selection of over 250 bourbons\, all served with genuine southern hospitality. \nLocated on the back side of Patrick Henry Mall\, Wild Magnolia may be a little tricky to find\, but the lively atmosphere and fun make it worth the visit. Bring your friends—because no one should sing alone!
URL:https://www.visitmartinsville.com/event/karaoke-night-at-wild-magnolia/2026-10-09/
LOCATION:Wild Magnolia\, 730 E Church St\, Suite 7A\, Martinsville\, VA\, 24112\, United States
CATEGORIES:Live Music,Beer/Wine/Spirits
ATTACH;FMTTYPE=image/jpeg:https://www.visitmartinsville.com/wp-content/uploads/2025/11/Wild-Mags_Karaoke.jpg
END:VEVENT
END:VCALENDAR